BEGIN:VCALENDAR
VERSION:2.0
PRODID:-//國際專案管理學會台灣分會 - ECPv4.9.7//NONSGML v1.0//EN
CALSCALE:GREGORIAN
METHOD:PUBLISH
X-WR-CALNAME:國際專案管理學會台灣分會
X-ORIGINAL-URL:https://www.pmi.org.tw
X-WR-CALDESC:Events for 國際專案管理學會台灣分會
BEGIN:VTIMEZONE
TZID:"Asia/Taipei"
BEGIN:STANDARD
TZOFFSETFROM:+0800
TZOFFSETTO:+0800
TZNAME:CST
DTSTART:20210101T000000
END:STANDARD
END:VTIMEZONE
BEGIN:VEVENT
DTSTART;TZID="Asia/Taipei":20211217T090000
DTEND;TZID="Asia/Taipei":20211217T170000
DTSTAMP:20260422T063257
CREATED:20211114T113602Z
LAST-MODIFIED:20211117T072052Z
UID:8826-1639731600-1639760400@www.pmi.org.tw
SUMMARY:12月17日(五) 專案管理實務暨第20屆公共工程金質獎專案管理得獎專案分享研討會
DESCRIPTION:本研討會著重「第20屆公共工程金質獎專案管理得獎專案」、「PMI(國際專案管理學會)專案管理大獎獲獎專案」、「營建專案管理技術新知」等經驗分享，藉由實務產業個案進行工程專案管理理論研討並分享寶貴經驗，期許透過分享、交流、觀摩、學習，提升國家工程專業總體能力、共同推動承辦工程邁向取得金質獎之目標，並成為新一代台灣年青的工程師創新能量，增強台灣工程管理實力，拓展台灣工程產業全球化。 \n【議程】\n\n\n\n\n	時間場次/主題講者\n\n\n\n\n	09:00~09:15報 到\n\n\n	09:15~09:20啟 幕 致 詞\n\n\n	09:20~10:10大型工程專案管理案例分享-臺灣桃園國際機場第三航站林同棪工程顧問股份有限公司\n淩志同營管部經理\n\n\n	10:10~11:00以LIWA SCU談JV聯合承攬專案的執行中鼎工程股份有限公司\n王奉鈺煉油石化專案管理部專案控制組長\n\n\n	11:00~11:20休 息 / 茶 敘\n\n\n	11:20~12:10專業電子製造業PM與工程師的協奏曲致伸科技股份有限公司\n李環墀iIDD事業部PM長\n姚汝彤iIDD事業部 PM1主管\n黃俊雯iIDD事業部 PM2主管\n\n\n\n	12:10~13:20休 息 / 午 餐\n\n\n	13:20~14:10縣道157線29K+800~30K+912(蒜頭大橋)拓寬改建工程亞新工程顧問股份有限公司\n張暉苑副總工程師\n\n\n\n	14:10~15:00沙崙綠能科學城核心區-C區開發工程 (第一期)中興工程顧問股份有限公司\n郭世芳計畫經理\n\n\n	15:00~15:20休 息 / 茶 敘\n\n\n	15:20~16:10下水污泥處理碳化示範驗證廠統包工程晶淨科技股份有限公司\n謝智偉經理\n\n\n\n	16:10~17:00台北市內湖區瑞光公共住宅統包工程台灣世曦工程顧問\n股份有限公司\n江炳祈計畫經理\n\n\n	17:00閉 幕\n\n\n\n \n<本會保留議程變動之權利，以實際活動行程為主> \n  \n【參與對象】\n工程界、產業界、營建業、顧問業及相關院校等 \n【費用說明】\nNT$500元 \n【主辦單位】\n中國工程師學會 \n社團法人國際專案管理學會台灣分會 \n【承辦單位】\n中國工程師學會專案管理認證委員會 \n台灣世曦工程顧問股份有限公司 \n【交通資訊】\n※捷運： \n文湖線「科技大樓站」往南走復興南路二段朝和平東路二段前進至辛亥路台灣大學側門進入校區後第一個路口右轉，步行約12分鐘，即可到達。 \n松山新店線「公館站」#3出口往新生南路三段前進至台灣大學側門右轉進入校區後直行至楓香道左轉，步行約14分鐘，即可到達。 \n※公車： \n「台大計資中心站」298、949，往北走辛亥路二段約140公尺至台灣大學側門進入校區後第一個路口右轉，步行約2分鐘，即可到達。 \n「台大綜合體育館站」0南、52、109、207、253、280、284、311、505、643、668、907、松江新生幹線，往南走新生南路三段約110公尺至台灣大學側門進入校區後直行至楓香道左轉，步行約12分鐘，即可到達。 \n※停車資訊(停車費率依停車場公告為準)\n \n辛亥地下停車場(入口：進辛亥路校門柵欄前右側，出口：辛亥路2段) \n【報名截止日期】\n2021年12月03日(五) \n  \n線上報名 \n
URL:https://www.pmi.org.tw/event/20211217/
LOCATION:國立台灣大學應用力學館1樓R100國際會議廳(由辛亥路校門進入後第一個路口右轉)\, 應用力學館\, 台北市\, 106\, 台灣
END:VEVENT
END:VCALENDAR