BEGIN:VCALENDAR
VERSION:2.0
PRODID:-//國際專案管理學會台灣分會 - ECPv4.9.7//NONSGML v1.0//EN
CALSCALE:GREGORIAN
METHOD:PUBLISH
X-WR-CALNAME:國際專案管理學會台灣分會
X-ORIGINAL-URL:https://www.pmi.org.tw
X-WR-CALDESC:Events for 國際專案管理學會台灣分會
BEGIN:VTIMEZONE
TZID:"Asia/Taipei"
BEGIN:STANDARD
TZOFFSETFROM:+0800
TZOFFSETTO:+0800
TZNAME:CST
DTSTART:20200101T000000
END:STANDARD
END:VTIMEZONE
BEGIN:VEVENT
DTSTART;TZID="Asia/Taipei":20201124T140000
DTEND;TZID="Asia/Taipei":20201124T153000
DTSTAMP:20260426T042624
CREATED:20201116T071015Z
LAST-MODIFIED:20201116T071315Z
UID:7573-1606226400-1606231800@www.pmi.org.tw
SUMMARY:11月24日(二) 【台中支會】5G時代下的0G商機：巨量物聯網的新思維
DESCRIPTION:【講座大綱】\n1）巨量物聯網概念介紹 \n2）優納比公司介紹 \n3）公司目前巨量物聯網案例 （如日本智慧瓦斯表，台北智慧水表，澳洲啤酒桶追蹤等） \n【講師】鄒宏平\n \n現任UnaBiz優納比網路股份有限公司總監，活躍於台灣物聯網及新創生態圈，為前法國在台協會商務處資深商務顧問，負責台法之間商務合作媒合、中英法三語專業翻譯（口譯/筆譯）；中國大陸8年生活經驗，具紡織（童裝）、旅遊、印刷電商、舞台演藝製作等多產業專案管理經驗；5年布魯塞爾歐盟NGO政治遊說活動經驗，目前在台灣為數家新創公司導師Mentor\,在非洲，台灣，歐洲長大，美國及中國大陸長居經驗及多文化生活及國際觀。 \n  \n線上報名 \n
URL:https://www.pmi.org.tw/event/20201124/
LOCATION:台中市西屯區朝富路213號21樓A6 (CBD時代廣場)\, 朝富路213號21樓A6 (CBD時代廣場)\, 台中市\, 407\, 台灣
END:VEVENT
END:VCALENDAR