BEGIN:VCALENDAR
VERSION:2.0
PRODID:-//國際專案管理學會台灣分會 - ECPv4.9.7//NONSGML v1.0//EN
CALSCALE:GREGORIAN
METHOD:PUBLISH
X-WR-CALNAME:國際專案管理學會台灣分會
X-ORIGINAL-URL:https://www.pmi.org.tw
X-WR-CALDESC:Events for 國際專案管理學會台灣分會
BEGIN:VTIMEZONE
TZID:"Asia/Taipei"
BEGIN:STANDARD
TZOFFSETFROM:+0800
TZOFFSETTO:+0800
TZNAME:CST
DTSTART:20200101T000000
END:STANDARD
END:VTIMEZONE
BEGIN:VEVENT
DTSTART;TZID="Asia/Taipei":20201121T140000
DTEND;TZID="Asia/Taipei":20201121T150000
DTSTAMP:20260422T224753
CREATED:20201104T075801Z
LAST-MODIFIED:20201106T105602Z
UID:7512-1605967200-1605970800@www.pmi.org.tw
SUMMARY:11月21日(六)PMI-TW 第六屆第三次會員大會
DESCRIPTION:【議程 Agenda】\n\n\n\n\n	時間議程說明\n\n\n\n\n\n	13:30-14:00報到\n\n\n	14:00-15:00PMI-TW 會員大會限PMI-TW 會員參加\n\n\n\n \n<本會保留議程變動之權利，以實際活動行程為主> \n【費用說明 Registration Fee】\n限PMI-TW會員參加：NT$0元 \n*報名截止日期：2020/11/15(日) \n【備註說明】\n學會將依據學員所提供的PMI-ID申報PDU，為確保個人的權益，煩請自行確認所填寫之 PMI-ID及英文姓名是否正確。若因所提供資料有誤造成申報問題，則為個人責任學會無法負責。 \n  \n線上報名 \n
URL:https://www.pmi.org.tw/event/2020112101/
LOCATION:國立台灣大學應用力學館1樓R100國際會議廳(由辛亥路校門進入後第一個路口右轉)\, 羅斯福路四段一號\, 台北市\, 106
END:VEVENT
END:VCALENDAR