BEGIN:VCALENDAR
VERSION:2.0
PRODID:-//國際專案管理學會台灣分會 - ECPv4.9.7//NONSGML v1.0//EN
CALSCALE:GREGORIAN
METHOD:PUBLISH
X-WR-CALNAME:國際專案管理學會台灣分會
X-ORIGINAL-URL:https://www.pmi.org.tw
X-WR-CALDESC:Events for 國際專案管理學會台灣分會
BEGIN:VTIMEZONE
TZID:"Asia/Taipei"
BEGIN:STANDARD
TZOFFSETFROM:+0800
TZOFFSETTO:+0800
TZNAME:CST
DTSTART:20200101T000000
END:STANDARD
END:VTIMEZONE
BEGIN:VEVENT
DTSTART;TZID="Asia/Taipei":20201112T190000
DTEND;TZID="Asia/Taipei":20201112T210000
DTSTAMP:20260422T223145
CREATED:20201006T080121Z
LAST-MODIFIED:20201007T032144Z
UID:7376-1605207600-1605214800@www.pmi.org.tw
SUMMARY:11月12日(四) 商業敏捷線上講座(中文講座)
DESCRIPTION:【主題一】2020企業在商業敏捷的發展回顧\n\n【講者】朱露茜Rose Chu\n \n• 拉波尼聯合社企有限公司董事及教練顧問\n• 澳門政府科學技術基金顧問(澳門政府智慧城市項目教練、2018澳門科技周教練)\n• 中國工經聯中國工業企業社會責任研究智庫\n• Business Agility Institute 商業敏捷協會大中華代表\n• Agile Business Consortium 大中華區代表（2017-2019) \n朱女士曾擔任助理教授，又在商界與政府工作超過20年，其後决心投身專案管理的專業培训和企業戰略輔導工作，並於2002年成為一位穿梭亞洲各地的國際專案管理導師及企業戰略輔導軍師。 \n【主題二】以人為本之敏捷人力發展架構\n(The Agile Way of HR Transformation)\n\n【講者】梅志榮 David Mui\n\n•David Mui博士是InfoWorks Institute的首席執行官兼變革與轉型主管。 作為Agile PeopleOps Framework的敏捷教練，他領導大中華地區的業務發展。此外，他還是商業敏捷研究所(Business Agility Institute) 的研究員。\n•他擁有30多年來自國際通訊科技，高科技和顧問公司的業務，諮詢，人力資本和多元與共融經驗。\n•專長: 組織轉型，併購，人力資本管理和變更管理。\n•他是 LIFO®\, TimePower® 和 Reality Leadership®的認證培訓師。他還是高級認證教練， 高級 執行職業 教練 ， Scrum Master和PROSCI變更實踐者。\n•此外\, 他是美國錫拉丘茲大學（ Syracuse University ） 和威爾士大學（ University of Wales）的客席教授，教授變革管理、策略規劃與管理、項目管理及策略人力資源管理。他目前是英國巽德蘭大學 (University of Sunderland in HK)客席教授。 \n【主辦單位】\n社團法人國際專案管理學會台灣分會(PMI Taiwan Chapter) \n【共同主辦單位】\nBAI\, Business Agility Institute \nBAI Greater China \n  \n線上報名 \n
URL:https://www.pmi.org.tw/event/20201112/
LOCATION:zoom
END:VEVENT
END:VCALENDAR