BEGIN:VCALENDAR
VERSION:2.0
PRODID:-//國際專案管理學會台灣分會 - ECPv4.9.7//NONSGML v1.0//EN
CALSCALE:GREGORIAN
METHOD:PUBLISH
X-WR-CALNAME:國際專案管理學會台灣分會
X-ORIGINAL-URL:https://www.pmi.org.tw
X-WR-CALDESC:Events for 國際專案管理學會台灣分會
BEGIN:VTIMEZONE
TZID:"Asia/Taipei"
BEGIN:STANDARD
TZOFFSETFROM:+0800
TZOFFSETTO:+0800
TZNAME:CST
DTSTART:20200101T000000
END:STANDARD
END:VTIMEZONE
BEGIN:VEVENT
DTSTART;TZID="Asia/Taipei":20201020T140000
DTEND;TZID="Asia/Taipei":20201020T153000
DTSTAMP:20260422T165941
CREATED:20201013T033934Z
LAST-MODIFIED:20201013T033951Z
UID:7431-1603202400-1603207800@www.pmi.org.tw
SUMMARY:10月20日(二)【台中支會】傳承企業DNA、創新企業價值
DESCRIPTION:【講座大綱】\n1.企業培訓趨勢與效益分析 \n2.內部專家團隊培育與建置 \n3.崗位經驗萃取與教材內化 \n4.學習型組織文化的塑造 \n  \n【講師】廖孟彥\n \n現任睿華國際管理顧問公司 總經理、中華人才培訓中心 營運長 暨首席講師，深具獨特的熱情與魅力，擅長運用多元教學手法與案例解析，激發成人學習意願，累積在產業界多年管理、銷售與服務領域的實戰與教練經驗，能精準掌握學員需求，同時協助企業解決實務經營上的痛點，是各大企業指定邀請的企管名師。 \n  \n線上報名 \n
URL:https://www.pmi.org.tw/event/20201020/
LOCATION:台中市西屯區朝富路213號21樓A6 (CBD時代廣場)\, 朝富路213號21樓A6 (CBD時代廣場)\, 台中市\, 407\, 台灣
END:VEVENT
END:VCALENDAR