BEGIN:VCALENDAR
VERSION:2.0
PRODID:-//國際專案管理學會台灣分會 - ECPv4.9.7//NONSGML v1.0//EN
CALSCALE:GREGORIAN
METHOD:PUBLISH
X-WR-CALNAME:國際專案管理學會台灣分會
X-ORIGINAL-URL:https://www.pmi.org.tw
X-WR-CALDESC:Events for 國際專案管理學會台灣分會
BEGIN:VTIMEZONE
TZID:"Asia/Taipei"
BEGIN:STANDARD
TZOFFSETFROM:+0800
TZOFFSETTO:+0800
TZNAME:CST
DTSTART:20200101T000000
END:STANDARD
END:VTIMEZONE
BEGIN:VEVENT
DTSTART;TZID="Asia/Taipei":20200916T190000
DTEND;TZID="Asia/Taipei":20200916T210000
DTSTAMP:20260422T214321
CREATED:20200428T080806Z
LAST-MODIFIED:20200612T092852Z
UID:6688-1600282800-1600290000@www.pmi.org.tw
SUMMARY:09月16日(三)【台北支會】善用專案管理，創新金融專利
DESCRIPTION:伴隨科技發展，金融業務不斷創新，金融專利日趨重要，金融產業與金融科技公司相繼申請金融科技專利，而許多科技公司，如IBM、Samsung、Microsoft等，皆擁有上萬的專利數，以保護自有產品與創造未來。靈活運用專案管理流程與工具，打破現有發展框架，改善業務既有流程，思索課題解決方案，分析未來趨勢潛力，讓專案管理成為金融科技專利發想與創新之最佳利器。 \n【講座大綱】\n\n金融科技介紹與應用\n專利申請介紹\n專案管理為金融科技專利最佳利器\n金融科技專利案例分享\n淺談金融未來潛力\n\n【講師】鄭宇廷\n \n\n經歷\n\n臺灣銀行資訊處—程式設計人員與金融專利小組 \n通過區塊鏈、數據分析、行動裝置、生物辨識金融應用等多項專利 \nPMI-TW志工 \n龍騰文化股份有限公司—數位專案企劃 \n資訊教師(新竹高商、寶山國中等學校) \n交通大學  教育研究所數位學習組畢業 \n  \n\n證書\n國際專案管理師(PMP®)\n電腦軟體乙級技術士\nExcel全國比賽第二名、TQC與MOS證書\n資料處理科教師證\n稅務記帳士\n授信、衍生性、金融科技、內部控制、洗錢防制、風險管理、信託等金融證書\n\n  \n線上報名 \n  \n
URL:https://www.pmi.org.tw/event/20200916/
LOCATION:PMI台灣分會\, 台北市大同區雙連街53巷8號1樓\, 台灣
END:VEVENT
END:VCALENDAR