BEGIN:VCALENDAR
VERSION:2.0
PRODID:-//國際專案管理學會台灣分會 - ECPv4.9.7//NONSGML v1.0//EN
CALSCALE:GREGORIAN
METHOD:PUBLISH
X-WR-CALNAME:國際專案管理學會台灣分會
X-ORIGINAL-URL:https://www.pmi.org.tw
X-WR-CALDESC:Events for 國際專案管理學會台灣分會
BEGIN:VTIMEZONE
TZID:"Asia/Taipei"
BEGIN:STANDARD
TZOFFSETFROM:+0800
TZOFFSETTO:+0800
TZNAME:CST
DTSTART:20200101T000000
END:STANDARD
END:VTIMEZONE
BEGIN:VEVENT
DTSTART;TZID="Asia/Taipei":20200828T190000
DTEND;TZID="Asia/Taipei":20200828T210000
DTSTAMP:20260423T044453
CREATED:20200824T031243Z
LAST-MODIFIED:20200824T031404Z
UID:7239-1598641200-1598648400@www.pmi.org.tw
SUMMARY:08月28日(五)【高雄支會】專案監控機制-連小孩都懂的機器學習：異常值偵測
DESCRIPTION:【講座大綱】\n1.機器學習與異常值偵測基本介紹\n2.異常值偵測應用\n3.機器學習基本處理流程\n4.異常值偵測處理技巧 \n【講師】張佑華\n \n現職：交大研究所 人工智慧實驗室 \n  \n線上報名 \n
URL:https://www.pmi.org.tw/event/20200828/
LOCATION:高雄市鳳山區青年路二段22號4樓\, 830\, 台灣
END:VEVENT
END:VCALENDAR