BEGIN:VCALENDAR
VERSION:2.0
PRODID:-//國際專案管理學會台灣分會 - ECPv4.9.7//NONSGML v1.0//EN
CALSCALE:GREGORIAN
METHOD:PUBLISH
X-WR-CALNAME:國際專案管理學會台灣分會
X-ORIGINAL-URL:https://www.pmi.org.tw
X-WR-CALDESC:Events for 國際專案管理學會台灣分會
BEGIN:VTIMEZONE
TZID:"Asia/Taipei"
BEGIN:STANDARD
TZOFFSETFROM:+0800
TZOFFSETTO:+0800
TZNAME:CST
DTSTART:20200101T000000
END:STANDARD
END:VTIMEZONE
BEGIN:VEVENT
DTSTART;TZID="Asia/Taipei":20200806T140000
DTEND;TZID="Asia/Taipei":20200806T153000
DTSTAMP:20260423T081919
CREATED:20200722T062618Z
LAST-MODIFIED:20200722T062755Z
UID:7171-1596722400-1596727800@www.pmi.org.tw
SUMMARY:08月06日(四)【台中支會】疫情過後，企業如何永保安康？ 從國際B型企業運動說起
DESCRIPTION:【講座大綱】\n1.B型企業運動的介紹 \n2.B型企業認證的價值 \n3.如何成為B型企業 \n【講師】黃惠敏 Chloe\n \nB型企業協會 秘書長 黃惠敏 Chloe與一群關心企業與人類永續生存的夥伴，一起在台灣推廣國際B型企業運動。透過結合產官學共創，帶動企業家、學生、社會大眾發揮力量，改變社會，成就別人也成就自己。\nChloe曾任大學講師、外商管理顧問公司策略流程與知識管理顧問，相信企業唯有更全面的思考其過去、現在、未來的價值，才有可能真正的永續。 \nB型企業運動介紹： \nB型企業運動由美國 B 型實驗室（B Lab）所發起，帶動企業用商業力量解決社會與環境問題，發展影響力商業模式，掌握永續成長商機。這是一個對資本主義反思的社會運動，透過B 型企業認證，建立全球「好公司」品牌，同時也在法律層面推動共益公司法的立法。正式成為B型企業的公司，用一套更嚴格的標準，建立己身在公司治理、員工照顧、環境友善、社區照顧和客戶影響力等五大面向的競爭優勢。 \n  \n線上報名 \n
URL:https://www.pmi.org.tw/event/20200806/
LOCATION:台中市西屯區朝富路213號21樓A6 (CBD時代廣場)\, 朝富路213號21樓A6 (CBD時代廣場)\, 台中市\, 407\, 台灣
END:VEVENT
END:VCALENDAR