BEGIN:VCALENDAR
VERSION:2.0
PRODID:-//國際專案管理學會台灣分會 - ECPv4.9.7//NONSGML v1.0//EN
CALSCALE:GREGORIAN
METHOD:PUBLISH
X-WR-CALNAME:國際專案管理學會台灣分會
X-ORIGINAL-URL:https://www.pmi.org.tw
X-WR-CALDESC:Events for 國際專案管理學會台灣分會
BEGIN:VTIMEZONE
TZID:"Asia/Taipei"
BEGIN:STANDARD
TZOFFSETFROM:+0800
TZOFFSETTO:+0800
TZNAME:CST
DTSTART:20200101T000000
END:STANDARD
END:VTIMEZONE
BEGIN:VEVENT
DTSTART;TZID="Asia/Taipei":20200724T200000
DTEND;TZID="Asia/Taipei":20200724T220000
DTSTAMP:20260423T114645
CREATED:20200710T035934Z
LAST-MODIFIED:20200716T042411Z
UID:7108-1595620800-1595628000@www.pmi.org.tw
SUMMARY:07月24日(五)【高雄支會】創意X思考X流程 如何應用於專案管理（線上講座）
DESCRIPTION:【講座內容】\n團隊組成的重要性，並且深入探討創意啟發來源，最後融入專案管理應用，將創意轉為實際可行方案進行相關運用，解決企業內部問題點，讓個人、團隊與企業都能共同成長課程。 \n【講座大綱】\n\n設計思考步驟\n打造改變力量團隊\n創意啟發來源\n特別加碼： 資料 x 資訊 x情報 x決策 與 專案管理應用\n\n【講師】黃冠凱\n \n現職：衛生福利部彰化醫院  醫務行政室  主任 \n學歷：亞洲大學資訊工程學系  博士 \n經歷： \n衛生福利部彰化醫院  院長室  高專 \n衛生福利部彰化醫院  品質管理中心  主任/副主任/高專 \n衛生福利部彰化醫院  企劃室  主任 \n秀傳醫療體系  資訊處  處長、副處長與系統分析師 \n彰濱秀傳紀念醫院  管理部副組長 \n秀傳紀念醫院  管理部專員 \n建國科技大學  兼任助理教授 \n亞洲大學  兼任講師 \n專長：企業流程再造、專案管理、ISO9001、個資法、電子病歷 \n事蹟：秀傳醫療體系電子病歷推動  專案經理(99年獲得優等) \n秀傳醫療體系ISO9001:2008  專案經理 \n輔導大甲李綜合體系、聯安醫院  電子病歷評鑑 \n【備註說明】\n以線上方式進行(加入 Zoom 會議) \n  \n線上報名 \n
URL:https://www.pmi.org.tw/event/20200724/
LOCATION:zoom
END:VEVENT
END:VCALENDAR