BEGIN:VCALENDAR
VERSION:2.0
PRODID:-//國際專案管理學會台灣分會 - ECPv4.9.7//NONSGML v1.0//EN
CALSCALE:GREGORIAN
METHOD:PUBLISH
X-WR-CALNAME:國際專案管理學會台灣分會
X-ORIGINAL-URL:https://www.pmi.org.tw
X-WR-CALDESC:Events for 國際專案管理學會台灣分會
BEGIN:VTIMEZONE
TZID:"Asia/Taipei"
BEGIN:STANDARD
TZOFFSETFROM:+0800
TZOFFSETTO:+0800
TZNAME:CST
DTSTART:20200101T000000
END:STANDARD
END:VTIMEZONE
BEGIN:VEVENT
DTSTART;TZID="Asia/Taipei":20200618T190000
DTEND;TZID="Asia/Taipei":20200618T210000
DTSTAMP:20260423T181051
CREATED:20200507T081958Z
LAST-MODIFIED:20200612T103151Z
UID:6742-1592506800-1592514000@www.pmi.org.tw
SUMMARY:06月18日(四)【高雄支會】所有你想知道的專案經濟以及PMI的秘密
DESCRIPTION:從2017年，PMI總會理事就把專案經濟放入講座中；2019年，PMI正式把專案經濟放入大會口號中，同時帶動了一年串不同的改變。\n想要知道為什麼PMI總會要在50周年進行絕地大變身嗎？\n想要知道專案經濟為什麼會主宰PM們未來的生活？\n想要知道PMBOK未來的走向嗎？ \n這場講座解答困惑你許久的所有關於PMI的疑問。 \n【講座大綱】\n\n什麼是專案經濟?\n專案經濟範例\nPMI如何幫助PM進入專案經濟-敏捷、人才以及企業環境\nPMBOK 第七版\n新冠肺炎後的專案經濟-共享員工、口罩國家隊\nPMI 2020 Signposts Report Insight 3- A.I. 人工智慧\n新的Symbol的意義\nQ&A\n\n【講師】劉道鈞\n \n1.學歷： \n(1) California Lutheran University MBA \n(2) Carleton University 數學系 \n2.證照： \n(1) 國際專案管理師 (PMP®) \n(2)國際商業分析師(CBAP®) \n(3)國際產品經理 (NPDP) \n(4) 國際人力資源管理師 (PHRi™) \n(5) 國際敏捷專案教練(CSM®) \n3.經歷： \n(1) Disciplined Agile Champion-Taiwan (2020~迄今) \n(2)PMI-TW 理事 (2018~迄今) \n(4)台灣富士全錄 Business Solution Service 專案經理 (2019~迄今) \n(5)UUPON 資訊處 經理 (2018~2019) \n(6)虹堡科技股份有限公司 專案經理 (2018~2018) \n(7)友信行股份有限公司 專案管理辦公室 專員 (2017~2018) \n(8)香港商瑞師精密科技股份有限公司 物流分析師(2015~2016) \n(9)國泰醫療財團法人國泰綜合醫院 醫務管理師(2013~2015) \n  \n【備註說明】\n本會將視新型冠狀病毒疫情保留活動方式變更(Zoom線上方式進行)的權利 \n  \n線上報名 \n
URL:https://www.pmi.org.tw/event/20200618/
LOCATION:PMI-TW高雄支會\, 高雄市苓雅區中正一路306號10樓之1\, 高雄市
END:VEVENT
END:VCALENDAR