BEGIN:VCALENDAR
VERSION:2.0
PRODID:-//國際專案管理學會台灣分會 - ECPv4.9.7//NONSGML v1.0//EN
CALSCALE:GREGORIAN
METHOD:PUBLISH
X-WR-CALNAME:國際專案管理學會台灣分會
X-ORIGINAL-URL:https://www.pmi.org.tw
X-WR-CALDESC:Events for 國際專案管理學會台灣分會
BEGIN:VTIMEZONE
TZID:"Asia/Taipei"
BEGIN:STANDARD
TZOFFSETFROM:+0800
TZOFFSETTO:+0800
TZNAME:CST
DTSTART:20190101T000000
END:STANDARD
END:VTIMEZONE
BEGIN:VEVENT
DTSTART;TZID="Asia/Taipei":20191026T130000
DTEND;TZID="Asia/Taipei":20191027T180000
DTSTAMP:20260422T131241
CREATED:20190827T061717Z
LAST-MODIFIED:20191002T025954Z
UID:5123-1572094800-1572199200@www.pmi.org.tw
SUMMARY:2019年10月26日&27日【PMI(中國)2019項目管理大會】
DESCRIPTION:【大會主題】\n項目人才、賦能科技 \nTechnology made possible by a project manager \n  \n【活動說明】\n科技讓人類更健康地生息繁衍； \n科技讓教育更智慧更公平更美好； \n科技讓信息傳遞和交互更暢通更安全； \n科技讓出行更便捷更環保，讓太空旅行不再是虛幻。 \n科技的進步開啟了人們對未來的無限遐想，造就了諸多的偉大成就。這一切是無數的項目、項目集、項目組合經理們創造的奇蹟。他們掌握專業知識和技能、有能力驅動變革、保持開放性思維、懂戰略，識敏捷，是他們讓科技之光熠熠生輝！ \n作為亞太區項目管理領域首屈一指的年度盛會，項目管理大會將於金秋10月26-27日在上海國際會議中心迎來十週年。今年大會以“項目人才· 賦能科技”為主題，期望通過最前沿的全球趨勢、最敏銳的洞察分析、最實戰的分享對話，共享項目管理的寶貴知識和經驗，展示項目管理對組織、社會和世界的巨大影響力，探索項目、項目集和項目組合經理如何更好地在顛覆時代帶領人類前往無限可能的未來！ \n今年恰逢PMI（項目管理協會）成立50週年，和PMP（項目管理專業人士）認證引入中國20週年紀念。 PMI與TED合作策劃了TED Talks專場——傳播項目管理理念，使項目經理將更多偉大構想變為現實，讓世界更美好。我們誠摯地邀請您蒞臨本屆大會，分享有價值的思想，推動項目管理髮展，共襄項目管理年度盛事！ \n  \n【費用說明】NT$7\,400元\n*此為台灣分會團報優惠價。 \n*本費用為二天報名費，不包含其他費用。 \n  \n【活動訊息】\n請查看【PMI(中國)2019項目管理大會】網站 \n  \n【報名截止日期】2019年10月05日(六)\n截止日期後請自行至PMI(中國)的活動官網報名。 \n  \n線上報名 \n
URL:https://www.pmi.org.tw/event/2019%e5%b9%b410%e6%9c%8826%e6%97%a527%e6%97%a5%e3%80%90pmi%e4%b8%ad%e5%9c%8b2019%e9%a0%85%e7%9b%ae%e7%ae%a1%e7%90%86%e5%a4%a7%e6%9c%83%e3%80%91/
LOCATION:上海國際會議中心\, 浦東新區濱江大道2727號\, 上海市\, 中國
END:VEVENT
END:VCALENDAR