BEGIN:VCALENDAR
VERSION:2.0
PRODID:-//國際專案管理學會台灣分會 - ECPv4.9.7//NONSGML v1.0//EN
CALSCALE:GREGORIAN
METHOD:PUBLISH
X-WR-CALNAME:國際專案管理學會台灣分會
X-ORIGINAL-URL:https://www.pmi.org.tw
X-WR-CALDESC:Events for 國際專案管理學會台灣分會
BEGIN:VTIMEZONE
TZID:"Asia/Taipei"
BEGIN:STANDARD
TZOFFSETFROM:+0800
TZOFFSETTO:+0800
TZNAME:CST
DTSTART:20190101T000000
END:STANDARD
END:VTIMEZONE
BEGIN:VEVENT
DTSTART;TZID="Asia/Taipei":20191217T183000
DTEND;TZID="Asia/Taipei":20191217T213000
DTSTAMP:20260421T233235
CREATED:20191204T082112Z
LAST-MODIFIED:20191227T085641Z
UID:5686-1576607400-1576618200@www.pmi.org.tw
SUMMARY:12月17日(二)【高雄支會】專案規劃及施工階段，如何應用3D繪圖來估算及做衝突測試以減少重工及降低成本
DESCRIPTION:【講座大綱】\n\n3D繪圖可創造之成本效益說明(繪圖成本20萬，可省下43萬，投報率116%)\n3D繪圖及估算之流程及軟體介紹\n如何應用3D繪圖來做衝突測試，以事先挑出問題及解決，以節省工期及成本\n\n  \n【講師簡歷】葉沛傑\n\n現任：\n並聯建築科技有限公司 負責人兼專案經理\n\n  \n\n曾任：\n鄭裕欽建築師事務所 專案設計師\n彭繼賢建築師事務所 設計師\n郭自強建築師事務所 設計師\n\n  \n\n專業證照：\nAutocad 2008年原廠認證\n3DsMAX 2008年原廠認證\n公共工程經費電腦估價系統PCCES 民國100年認證\n\n \n  \n線上報名 \n
URL:https://www.pmi.org.tw/event/12%e6%9c%8817%e6%97%a5%e4%ba%8c%e3%80%90%e9%ab%98%e9%9b%84%e6%94%af%e6%9c%83%e3%80%91%e5%b0%88%e6%a1%88%e8%a6%8f%e5%8a%83%e5%8f%8a%e6%96%bd%e5%b7%a5%e9%9a%8e%e6%ae%b5%ef%bc%8c%e5%a6%82%e4%bd%95/
LOCATION:高雄市鳳山區青年路二段22號4樓\, 青年路二段22號4樓\, 高雄市\, 830\, 台灣
END:VEVENT
END:VCALENDAR