BEGIN:VCALENDAR
VERSION:2.0
PRODID:-//國際專案管理學會台灣分會 - ECPv4.9.7//NONSGML v1.0//EN
CALSCALE:GREGORIAN
METHOD:PUBLISH
X-WR-CALNAME:國際專案管理學會台灣分會
X-ORIGINAL-URL:https://www.pmi.org.tw
X-WR-CALDESC:Events for 國際專案管理學會台灣分會
BEGIN:VTIMEZONE
TZID:"Asia/Taipei"
BEGIN:STANDARD
TZOFFSETFROM:+0800
TZOFFSETTO:+0800
TZNAME:CST
DTSTART:20190101T000000
END:STANDARD
END:VTIMEZONE
BEGIN:VEVENT
DTSTART;TZID="Asia/Taipei":20191214T100000
DTEND;TZID="Asia/Taipei":20191214T170000
DTSTAMP:20260422T011346
CREATED:20190826T081950Z
LAST-MODIFIED:20191210T073939Z
UID:5101-1576317600-1576342800@www.pmi.org.tw
SUMMARY:12月14日(六) 【高雄場】Field Trip~「戀戀高雄港」－迎風遊港，海洋文化回顧與探索~
DESCRIPTION:旗津島原本是和南端小港區相連的半島，因清治時期設立旗後海關分關，在正式開港通商後，萬帆聚集，曾是高雄的首善之區；但因後來高雄港第二港口的擴建，旗津和小港之間遂崛以水道分割。 \n身為福爾摩沙美麗島國居民的我們，不論有無居住在高雄港都，大家皆是海洋島嶼的住民。大家是否期望對於環繞在我們四周的海洋生態與相關的港都歷史文化多點回顧，恰好此次高雄打狗支會要安排學員們參觀跨世紀經典船舶的模型及其海運功能歷史文化的活動。除了了解先人的智慧外，也安排參訪我國海洋研究船隊之海研三號，對高雄沿近海洋生物的探索作一些認識。因為海洋蘊藏著極豐富的能、礦、漁類、海底生物等資源，且與地球的氣候息息相關，所以對於海洋的奧秘，世界上先進國家皆不遺餘力地研究及探索。 \n各位！還猶豫什麼，一天就讓您對海洋文化的歷史作回顧，又能體驗現代科技對海洋生物生態奧秘的探索活動，真是千載難逢的機會，讓我們作伙出航吧！ \n  \n【中山大學海研三號海洋研究船】\n海研三號是由行政院國家科學委員會與教育部共同撥款建造及維修之研究船，由中山大學管理及營運。國內尚有海研一號及二號，分別由國立台灣大學及國立台灣海洋大學負責管理，構成我國之海洋研究船隊。海研三號主要用途除供中山大學海洋教學研究之外，並供國科會補助之專題海洋研究計畫及其他建教合作計畫之用。 \n海研三號研究船由國人自行設計、監工及建造。首艘海研三號於81年7月起造，82年12月11日交船，該船最大航速13.71節，續航力7天。航儀配備先進之全球衛星定位系統(GPS)，於任何時間均可確知船位。通訊設備除可提供短中長距離之船岸連繫，並可透過國際衛星通訊設備傳真圖文資料，及提供有關海洋之物理、化學、地質、生物等方面研究之用。因該艘研究船使用至今已超過20年，且現今海洋科技及探測技術均有大幅度的進展，故預計在今年將汰除現役的研究船，未來將使用新建造的研究船以進行更多更廣的海洋研究。 \n海研三號研究船主要裝備包括各種探測記錄儀器，超音波多層流速計(ADCP)，科學測深魚探聲納系統(SIMRAD EK500)，溫鹽深儀(CTD)及各種水文資料之收集記錄儀器。現有設備除可採集各種深度海水及收集底泥及底棲、表中層生物採集拖網及籠具作業技術，為沿近海海洋生物學調查之有力工具。 \n(簡介來源摘自中山大學海研三號官網：http://or3.nsysu.edu.tw/p/412-1268-82.php?Lang=zh-tw) \n  \n【打狗英國領事館旗鑑行程－史溫侯探險之旅】\n文化局「史溫侯探險之旅」文化遊艇路線，從英國領事館官邸前的哨船頭搭船遊高雄港1號碼頭、西子灣等外海欣賞高雄港的景色，岸邊的暗礁據說史溫侯的年代很多台灣獼猴在那邊跳來跳去，岸邊的燈塔搭配大船入港的景色。搭乘「史溫侯探險之旅」文化遊艇可一覽亞洲最大遊艇製造公司中信造船集團的碼頭及一些停靠在碼頭預備交給國外的船，再過去還可以遠望高雄的85大樓和波浪形狀設計的高雄展覽館。 \n「打狗領事館」是英國在台灣建造三座領事館之一，是高雄著名的文化景點，使用由中國廈門運來的紅磚，外觀皆有圓拱迴廊，故可見英式建築之美。園區中的登山古道上一處「英國領事史溫侯生物踏查」蠟像，再現當年史溫侯在台進行生物踏查，與獼猴及以其為名的斯文豪氏赤蛙同樂的場景。 \n因展場主題為「港」，天津條約後打狗開港，其中英國領事館的設置象徵打狗港成為國際貿易的重要據點之一，所以從領事館的興衰可見證高雄港（打狗港）發展的不同時期與面相。因為本展覽空間位在山上官邸得以眺望全港區，展示從清末開港、日治時期築港建設、民國時期拓港與發展等不同階段的風華與故事。 \n \n(部分內容摘自 史溫侯探險之旅 踏生物學家足跡－地方新聞－中國時報chinastimes.com、打狗英國領事館－談.文史 britishconsulate.khcc.gov.tw)! \n  \n【注意事項】\n1.報名截止日期：2019/11/30(六)。 \n2.本費用包含：保險、午餐(素食者請報名時告知)、參加「史溫侯探險之旅」之活動費用(含遊港)。 \n3.請自行前往集合地點A.旗津港勤基地(即海研3號停泊處，為自行開車前往者)、B.旗津輪渡站(下輪渡站集合後由志工帶領搭乘公車)。統一在旗津港勤基地報到。 \n4.由旗津港勤基地至萬二小吃部午餐，約有10分鐘步行時間，請自備傘具遮陽或防雨，最好注意防曬及自備水壺多喝水。 \n5.若活動當天天侯不佳致影響參觀行程時，將延期舉行。 \n6.當天活動參加時請攜帶身分證件及交通票卡(一卡通)。 \n  \n【費用說明】\n*一般學員： \n1.PMI-TW會員(PDU)：NT$700 \n2.非PMI-TW會員(PDU)：NT$800 \n*親友含孩童(No PDU)：NT$700 \n*PMI-TW志工(於2015年起參加過志工訓練有志工編號者)： \n1.志工: PMI-TW會員(PDU)：NT$550 \n2.志工: 非PMI-TW會員(PDU)：NT$600 \n  \n【好康優惠】早鳥價 ( 108.09.30前報名繳費者)\n*一般學員： \n1.PMI-TW會員(PDU)：NT$600 \n2.非PMI-TW會員(PDU)：NT$700 \n*親友含孩童(No PDU)：NT$600 \n  \n【備註說明】\n學會將依據學員所提供的PMI-ID申報PDU，為確保個人的權益，煩請自行確認所填寫之 PMI-ID及英文姓名是否正確。若因所提供資料有誤造成申報問題，則為個人責任學會無法負責。 \n  \n【取消活動相關規定】\n※活動前三天至前五天內通知辦理取消，收10%手續費。 \n※活動前二天內通知辦理取消，收30%手續費。 \n※活動前一天及當天通知辦理取消，恕無法退費。 \n  \n【行程規劃】\n  \n\n\n\n時間\n活動內容\n地點\n\n\n9:00~10:00\n集合與報到\n集合點： \nA.旗津港勤基地(即海研3號停泊處) \nB.旗津輪渡站(下船後再搭公車紅9A或紅9B前往旗津港勤基地) \n報到處： \n旗津港勤基地(即海研3號停泊處)\n\n\n10:00~11:30\n參觀海研三號研究船\n海研三號海洋研究船上\n\n\n12:00~13:00\n午餐\n萬二小吃部\n\n\n13:00~14:30\n萬二小吃部至英國領事館\n（1）搭公車到旗津渡輪站坐渡輪到鼓山渡輪站，下船走10分鐘的路程到英國領事館 \n（2）開車者則從萬二小吃部開車子英國領事館 (可停車在星巴克或是中山大學西子樓校友會館周圍的停車位)\n\n\n14:50~17:00\n【史溫侯探險之旅】\n（1）英國領事館官邸前的哨船頭搭船遊高雄港1號碼頭 \n（2）打狗英國領事館官邸\n\n\n17:00\n活動結束與解散\nA.打狗(高雄)英國領事館 \nB.西子灣捷運站 (由志工集合後帶領至西子灣捷運站)。\n\n\n\n*本會保留行程變動之權利，以實際活動行程為主 \n  \n【前往報到及參觀相關連結之交通資訊】\n至海研三號旗津港勤基地之交通資訊：(地址：高雄市旗津區南汕里北汕巷50之90號)\n開車走過港隧道: http://or3.nsysu.edu.tw/\n出過港隧道後依告示牌沿旗津三路到風車公園®到風車公園後右轉旗港路®看到萬二小吃部左轉北汕巷，®北汕巷走到底看到港勤基地大門即進鐡門 \n旗津渡輪站集合至報到處:\n下船由志工帶領右轉至公車站搭公車(紅9A、紅9B)至旗津醫院(清靜寺)下車，步行約10分鐘到港勤基地 \n中山大學海研三號官網： http://or3.nsysu.edu.tw/ \n  \n  \n線上報名 \n
URL:https://www.pmi.org.tw/event/12%e6%9c%8814%e6%97%a5%e5%85%ad-%e3%80%90%e9%ab%98%e9%9b%84%e5%a0%b4%e3%80%91field-trip%e3%80%8c%e6%88%80%e6%88%80%e9%ab%98%e9%9b%84%e6%b8%af%e3%80%8d%ef%bc%8d%e8%bf%8e%e9%a2%a8%e9%81%8a%e6%b8%af/
LOCATION:旗津
END:VEVENT
END:VCALENDAR