BEGIN:VCALENDAR
VERSION:2.0
PRODID:-//國際專案管理學會台灣分會 - ECPv4.9.7//NONSGML v1.0//EN
CALSCALE:GREGORIAN
METHOD:PUBLISH
X-WR-CALNAME:國際專案管理學會台灣分會
X-ORIGINAL-URL:https://www.pmi.org.tw
X-WR-CALDESC:Events for 國際專案管理學會台灣分會
BEGIN:VTIMEZONE
TZID:"Asia/Taipei"
BEGIN:STANDARD
TZOFFSETFROM:+0800
TZOFFSETTO:+0800
TZNAME:CST
DTSTART:20190101T000000
END:STANDARD
END:VTIMEZONE
BEGIN:VEVENT
DTSTART;TZID="Asia/Taipei":20191211T190000
DTEND;TZID="Asia/Taipei":20191211T210000
DTSTAMP:20260422T025836
CREATED:20190806T031137Z
LAST-MODIFIED:20190903T125056Z
UID:4744-1576090800-1576098000@www.pmi.org.tw
SUMMARY:12月11日(三)【20回娘家系列講座】新藥研發與專案管理概述
DESCRIPTION:政府從兩兆雙星產業發展計畫到生技起飛鑽石方案，生物經濟產業已成為了台灣經濟發展的重大方向之一，其中，在醫藥品領域的培育與投資更在近幾年的成為經濟話題與顯學；然而，一個成功的藥品從研發到上市，往往需要超過十年以上的開發期程才可能有收穫的機會，而更甚者，在投入大量資源卻在指標性里程碑的臨床三期試驗以失敗收場，這也造就了在藥品開發在投資上的不確定性與高風險性。 \n此次分享主題中將從醫藥產品的特性介紹、到如何藉由專案管理知識來規劃藥品研發的風險評估，期待能讓大家對藥品開發領域有一個初步的認識與瞭解。 \n  \n【講座大綱】\n概說藥品開發。 \n從醫藥品生命週期來探討新藥開發的執行。 \n如何藉由專案管理來看新藥開發-什麼是Target product profile (TPP)。 \n  \n【講師】李仁譯\n現職：寶齡富錦生技 研究開發部 經理 \n經歷： \n台灣大學 基因體中心 博士後研究 \n陽明大學 藥理學研究所 暨 中研院分子醫學學程 博士 \n  \n  \n線上報名 \n
URL:https://www.pmi.org.tw/event/12%e6%9c%8811%e6%97%a5%e4%b8%89%e3%80%9020%e5%9b%9e%e5%a8%98%e5%ae%b6%e7%b3%bb%e5%88%97%e8%ac%9b%e5%ba%a7%e3%80%91%e6%96%b0%e8%97%a5%e7%a0%94%e7%99%bc%e8%88%87%e5%b0%88%e6%a1%88%e7%ae%a1%e7%90%86/
LOCATION:PMI台灣分會\, 台北市大同區雙連街53巷8號1樓\, 台灣
END:VEVENT
END:VCALENDAR