BEGIN:VCALENDAR
VERSION:2.0
PRODID:-//國際專案管理學會台灣分會 - ECPv4.9.7//NONSGML v1.0//EN
CALSCALE:GREGORIAN
METHOD:PUBLISH
X-WR-CALNAME:國際專案管理學會台灣分會
X-ORIGINAL-URL:https://www.pmi.org.tw
X-WR-CALDESC:Events for 國際專案管理學會台灣分會
BEGIN:VTIMEZONE
TZID:"Asia/Taipei"
BEGIN:STANDARD
TZOFFSETFROM:+0800
TZOFFSETTO:+0800
TZNAME:CST
DTSTART:20190101T000000
END:STANDARD
END:VTIMEZONE
BEGIN:VEVENT
DTSTART;TZID="Asia/Taipei":20191116T090000
DTEND;TZID="Asia/Taipei":20191117T180000
DTSTAMP:20260422T063257
CREATED:20191104T135355Z
LAST-MODIFIED:20191104T135355Z
UID:5603-1573894800-1574013600@www.pmi.org.tw
SUMMARY:11月16日&17日【MBA/DBA 研討會】服務科技與價值創新研討會
DESCRIPTION:【課程概要】\n本研討會係MBA．DBA的選修課程，屬於研究(修)生各專業科目的一部份。為擴大對社會的貢獻與影響力，特別開放社會上有意學習管理的朋友參與。 \n【主辦單位】\n中歐領袖學院高等教育中心/大人物知識管理集團/瑞士歐洲大學 \n【協辦單位】\n社團法人國際專案管理學會台灣分會、新王道人力資源股份有限公司 、中華國際管理顧問師協會、台灣創意產業管理協會 \n【活動費用】\nPMI-TW會員兩天$4\,000元， 一天$2\,000元\n非會員兩天$4\,500元，一天$2\,500元 \n＊本活動不適用講座卷 \n【早鳥優惠】2019/11/08前報名\nPMI-TW會員兩天$3\,400元\n非會員兩天$3\,900元 \n【PDU 時數】\n一天7.5PDU，兩天15 PDU \n【講師簡介】\n11/16主講人：\n覃冠豪博士（美國內布拉斯加州立大學工業管理及系統工程學博士， “買手幫- 全球原創設計風格組貨平臺” B2B電子商務交易平臺創辦人，BIFI創鑫時尚企業學院，深圳前海雅美文化股份有限公司 創辦人，總裁）\n11/17上午主講人：\n范揚松博士（美國普萊頓大學企業管理博士，大人物知識管理集團董事長，國家文官學院、瑞士歐洲大學、北京大學EU MBA&DBA學程教授兼執行長，中華國際管理顧問師協會理事長，行政院台三線跨平台治理委員，曾任總編輯、總經理職務，國家總經理獎複評委員）\n11/17 下午鼎談會：主持人：范揚松教授，與會嘉賓：\n蘇文龍董事長(瑞士歐洲大學企管博士，台灣尖端生技醫藥公司董事長，中華兩岸客家文經會副理事長)\n許玉芬董事長(瑞士歐洲大學企管博士，鼎玉珠寶股份公司董事長，媽祖聯誼會長，扶輪社長)\n賴旺根執行長(瑞士歐洲大學企管博士研究生，英國萊斯特大學MBA， Foxconn Global LTD執行長) \n【備註說明】\n學會將依據學員所提供的PMI-ID申報PDU，為確保個人的權益，煩請自行確認所填寫之 PMI-ID及英文姓名是否正確。若因所提供資料有誤造成申報問題，則為個人責任學會無法負責。 \n【取消活動相關規定】\n※活動前六天通知辦理取消，全額退費。 \n※活動前三天至前五天內通知辦理取消，收10%手續費。 \n※活動前二天內通知辦理取消，收30%手續費。 \n※活動前一天及當天通知辦理取消，恕無法退費。 \n\n\n【活動議程】\n\n\n\n\n\n	2019年11月16日2019年11月17日\n\n\n\n\n	09:00 ~ 12:30單元一：價值變革中的服務行銷(覃冠豪博士)\n1.	外送員之死─平臺服務的演變史\n2.	誠品不賣書？賣什麼以聚客? \n3.	免費經濟的服務價值及其挑戰\n4.	無菜單料理與不再促銷的店員\n5.	服務價值決定產品價格高低\n6.	Hello Kitty與麥當勞的聯姻服務 \n7.	五毛肉包與百元星巴克的服務\n8.	從等入座到你家餐桌的海底撈單元三：差異服務與價值優勢競爭(范揚松教授)\n1.	沒差異沒價值唯差異者生存\n2.	差異化策略的價值主張設計\n3.	差異優勢來源及操作性模式\n4.	產品/市場矩陣中創新4類型\n5.	策略逆轉中天地人價值競爭攻防\n6.	天道酬勤；掌握趨勢與景氣變動\n7.	地藏萬物；善用核心優勢資源力\n8.	人間福報；市場變動獲利八方財\n\n\n	14:00 ~ 18:00單元二：科技，重定義服務行銷(覃冠豪博士)\n1.	獲利3.5億的免費行銷 （夢露睡衣）\n2.	創新服務改寫商業生態\n3.	網路電商的服務價值轉移\n4.	從分享經濟到點對點P2P\n5.	定制化行銷與快返供應鏈\n6.	3D智造重塑產業價值鏈\n7.	5G，無時差服務的無限可能\n8.	AI冰箱的遠距服務新模式單元四：范蠡商聖名家鼎談(范揚松博士主持)\n1.	免疫細胞療法與尖端生醫發展(蘇文龍)\n2.	競爭紅海如何開創宮廟新藍海(許玉芬)\n3.	金融投資服務與人工智慧應用(賴旺根)\n4.	企業創新的動機與策略思考角度\n5.	創新推動的方法與步驟程序\n6.	對創新變革及其突破的技巧\n7.	如何預防創新風險及可能挑戰\n8.	商業生態系統與創新兌現\n\n\n\n\n\n  \n線上報名 \n
URL:https://www.pmi.org.tw/event/11%e6%9c%8816%e6%97%a517%e6%97%a5%e3%80%90mba-dba-%e7%a0%94%e8%a8%8e%e6%9c%83%e3%80%91%e6%9c%8d%e5%8b%99%e7%a7%91%e6%8a%80%e8%88%87%e5%83%b9%e5%80%bc%e5%89%b5%e6%96%b0%e7%a0%94%e8%a8%8e%e6%9c%83/
LOCATION:台北市電腦公會\, 台北市八德路三段2號5F\, 台北市\, 台灣
END:VEVENT
END:VCALENDAR