BEGIN:VCALENDAR
VERSION:2.0
PRODID:-//國際專案管理學會台灣分會 - ECPv4.9.7//NONSGML v1.0//EN
CALSCALE:GREGORIAN
METHOD:PUBLISH
X-WR-CALNAME:國際專案管理學會台灣分會
X-ORIGINAL-URL:https://www.pmi.org.tw
X-WR-CALDESC:Events for 國際專案管理學會台灣分會
BEGIN:VTIMEZONE
TZID:"Asia/Taipei"
BEGIN:STANDARD
TZOFFSETFROM:+0800
TZOFFSETTO:+0800
TZNAME:CST
DTSTART:20190101T000000
END:STANDARD
END:VTIMEZONE
BEGIN:VEVENT
DTSTART;TZID="Asia/Taipei":20191113T190000
DTEND;TZID="Asia/Taipei":20191113T210000
DTSTAMP:20260422T082608
CREATED:20190919T093121Z
LAST-MODIFIED:20191003T033313Z
UID:5428-1573671600-1573678800@www.pmi.org.tw
SUMMARY:11月13日(三)【20回娘家系列講座】海外PMO經驗分享
DESCRIPTION:【主題】\nBuild a New Project Management Office \n【講座大綱】\n\nHarrison’s experience from last 2 years with Toronto Transit Commission\nWhat we did well\nWhat we did not do well\nWhat challenges we encountered\nHow we plan to move forward\n\n【講師】Harrison (Li Chou) Chen (PMP，RMP)\nManager – Project Management Office (Information Technology Services) at Toronto Transit Commission (TTC) \nWSIB (Workplace Safety & Insurance Board) – Ontario Government Agency\n-Project Portfolio Manager (Office of the Chief Corporate Services Officer)\n-Senior Project Manager\nSymcor Inc.\n-Project Manager (I\, II) \n \n  \n線上報名 \n
URL:https://www.pmi.org.tw/event/11%e6%9c%8813%e6%97%a5%e4%b8%89%e3%80%9020%e5%9b%9e%e5%a8%98%e5%ae%b6%e7%b3%bb%e5%88%97%e8%ac%9b%e5%ba%a7%e3%80%91%e5%bb%ba%e7%ab%8b%e6%96%b0%e7%9a%84%e5%b0%88%e6%a1%88%e7%ae%a1%e7%90%86%e8%be%a6/
LOCATION:PMI台灣分會\, 台北市大同區雙連街53巷8號1樓\, 台灣
END:VEVENT
END:VCALENDAR