BEGIN:VCALENDAR
VERSION:2.0
PRODID:-//國際專案管理學會台灣分會 - ECPv4.9.7//NONSGML v1.0//EN
CALSCALE:GREGORIAN
METHOD:PUBLISH
X-WR-CALNAME:國際專案管理學會台灣分會
X-ORIGINAL-URL:https://www.pmi.org.tw
X-WR-CALDESC:Events for 國際專案管理學會台灣分會
BEGIN:VTIMEZONE
TZID:"Asia/Taipei"
BEGIN:STANDARD
TZOFFSETFROM:+0800
TZOFFSETTO:+0800
TZNAME:CST
DTSTART:20190101T000000
END:STANDARD
END:VTIMEZONE
BEGIN:VEVENT
DTSTART;TZID="Asia/Taipei":20191030T190000
DTEND;TZID="Asia/Taipei":20191030T210000
DTSTAMP:20260424T075924
CREATED:20191021T113830Z
LAST-MODIFIED:20191022T105407Z
UID:5533-1572462000-1572469200@www.pmi.org.tw
SUMMARY:10月30日(三) Introduction of PMI’s new branding and positioning
DESCRIPTION:PMI just rolled out its new brand! With the new brand\, what is the new position that PMI stands? \nHow will this impact chapters? In this session\, we will address: what will change for chapters\, how and when the changes should be implemented. \n\n  \n【講師】Cindy W. Anderson\nVice President\, Brand Management\,  PMI \n  \n【協辦單位】台灣世曦工程顧問股份有限公司\n  \n線上報名 \n
URL:https://www.pmi.org.tw/event/10%e6%9c%8830%e6%97%a5%e4%b8%89-introduction-of-pmis-new-branding-and-positioning/
LOCATION:台北市內湖區陽光街323號(台灣世曦)\, 內湖區陽光街323號\, 台北市\, 114\, 台灣
END:VEVENT
END:VCALENDAR