BEGIN:VCALENDAR
VERSION:2.0
PRODID:-//國際專案管理學會台灣分會 - ECPv4.9.7//NONSGML v1.0//EN
CALSCALE:GREGORIAN
METHOD:PUBLISH
X-WR-CALNAME:國際專案管理學會台灣分會
X-ORIGINAL-URL:https://www.pmi.org.tw
X-WR-CALDESC:Events for 國際專案管理學會台灣分會
BEGIN:VTIMEZONE
TZID:"Asia/Taipei"
BEGIN:STANDARD
TZOFFSETFROM:+0800
TZOFFSETTO:+0800
TZNAME:CST
DTSTART:20190101T000000
END:STANDARD
END:VTIMEZONE
BEGIN:VEVENT
DTSTART;TZID="Asia/Taipei":20191014T190000
DTEND;TZID="Asia/Taipei":20191014T210000
DTSTAMP:20260422T163148
CREATED:20191008T053245Z
LAST-MODIFIED:20191008T053814Z
UID:5496-1571079600-1571086800@www.pmi.org.tw
SUMMARY:10月14日(一)【高雄支會】如何將軟體工具應用在專案管理
DESCRIPTION:【講座摘要】\n學了專案管理不會應用，是因為您沒學會適當之應用工具。讓家祥老師教您用X-MIND來做WBS、Gantt Project軟體畫甘特圖進度表、用Google雲端硬碟做每日15分鐘之溝通及每周之成品展示及流程回顧與改善。 \n【講座大綱】\n\n用X-MIND來做WBS、\n用Gantt Project軟體畫甘特圖進度表\n用Google雲端硬碟做每日15分鐘之溝通及每周之成品展示及流程回顧與改善。\n\n【講師簡歷】洪家祥（PMP、PMI-ACP）\n\n學歷：\n淡江土木系\n國立第一科大科技管理研究所博士候選人\n現職：如魚得水 管理顧問公司 總經理\n經歷：\n沙烏地迪拉工程工務經理(提前半年完工)\n長谷50層樓世貿聯合國專案總監(連續壁節省1200萬)\n長谷集團勵成營造總經理(86年台南10大優良建築)\n上海泛太平洋建設總經理(上海解決提車塔問題)\nBOVIS顧問公司採購部經理\n長宏專案管理顧問有限公司協理\n\n \n  \n線上報名 \n
URL:https://www.pmi.org.tw/event/10%e6%9c%8814%e6%97%a5%e4%b8%80%e3%80%90%e9%ab%98%e9%9b%84%e6%94%af%e6%9c%83%e3%80%91%e5%a6%82%e4%bd%95%e5%b0%87%e8%bb%9f%e9%ab%94%e5%b7%a5%e5%85%b7%e6%87%89%e7%94%a8%e5%9c%a8%e5%b0%88%e6%a1%88/
LOCATION:高雄市鳳山區青年路二段22號4樓\, 青年路二段22號4樓\, 高雄市\, 830\, 台灣
END:VEVENT
END:VCALENDAR