BEGIN:VCALENDAR
VERSION:2.0
PRODID:-//國際專案管理學會台灣分會 - ECPv4.9.7//NONSGML v1.0//EN
CALSCALE:GREGORIAN
METHOD:PUBLISH
X-WR-CALNAME:國際專案管理學會台灣分會
X-ORIGINAL-URL:https://www.pmi.org.tw
X-WR-CALDESC:Events for 國際專案管理學會台灣分會
BEGIN:VTIMEZONE
TZID:"Asia/Taipei"
BEGIN:STANDARD
TZOFFSETFROM:+0800
TZOFFSETTO:+0800
TZNAME:CST
DTSTART:20190101T000000
END:STANDARD
END:VTIMEZONE
BEGIN:VEVENT
DTSTART;TZID="Asia/Taipei":20190907T080000
DTEND;TZID="Asia/Taipei":20190907T170000
DTSTAMP:20260422T234459
CREATED:20190726T062800Z
LAST-MODIFIED:20190829T091719Z
UID:4516-1567843200-1567875600@www.pmi.org.tw
SUMMARY:09月07日(六) 【台北場】Field Trip~PM愛淨灘，揪你逗陣行!
DESCRIPTION:夏日的美景讓你想起什麼? \n是陽光、沙灘及比基尼嗎? 還是塑膠瓶、保麗龍、塑膠吸管呢!? \n曾幾何時沙灘出現的不是美景，而是數不清的垃圾。 \n據聯合國統計，每年有800萬噸的塑膠垃圾進入海洋，預估到了2050年，海洋塑膠將跟魚類一樣多。 \n這些廢棄物不僅破壞景觀，威脅著海洋生態，更透過食物鏈影響你我的健康。 \n09月07日這是一場結合淨灘的悠活行，當天不僅有國際淨灘行動解說，還有欣賞無敵海景的麟山鼻漫步行。我們熱烈邀請大夥帶著家人一同用淨灘愛護地球環境，用眼睛欣賞山色海景，用身體感受當地美景。 \n現在，愛海的你準備好了嗎？ 淨灘之旅就等你報名！ \n【費用說明】\n \n※一般學員： \n1.PMI-TW會員：NT$1\,200元 \n2.非PMI-TW會員：NT$1\,500元 \n※攜伴同遊價(不申報PDU)：每人$1\,000元 \n【早鳥優惠】\n即日起至7/31(三)止報名者即享早鳥優惠價! \n※一般學員： \n1.PMI-TW會員：NT$1\,000元 \n2.非PMI-TW會員：NT$1\,200元 \n【好康加碼】\n本會已經將本次活動登錄到PMI Global Celebration of Service\, 目標貢獻100\,00小時以支持聯合國的17個永續發展目標(SDG; Sustainable Development Goals)\n前20位報名者可以獲得PMI總會紀念T-shirt一件! \n \n【注意事項】\n1. 本費用包含午餐、車資、保險、導覽人員費用。 \n2. 凡參加者即贈送精美紀念品。 \n3. 請以自身體能狀況為優先考量，力求安全第一。 \n4. 為求環保，本活動不提供瓶裝水，請自備水壺並於裝滿飲水。 \n5. 為防下雨，請攜帶您的雨具，並以雨衣為主。 \n6. 隨身物品的攜帶，請使用雙肩背包，方便空出雙手進行活動 ，也較為安全。 \n7. 活動中，會行走在沙灘區，建議穿著能包覆腳趾的鞋子，防止割傷。 \n8. 防曬不建議使用防曬乳，大部分的防曬成份會影響珊瑚進行光合作用，造成海洋生態的破壞，請選用帽子、袖套、薄外套等物理防曬為佳。 \n9. 當天如遇颱風等不可抗力之天災，學會會考量參加者安全，於前一日電話或信件通知活動取消或擇期舉辦。 \n【備註說明】\n學會將依據學員所提供的PMI-ID申報PDU，為確保個人的權益，煩請自行確認所填寫之 PMI-ID及英文姓名是否正確。若因所提供資料有誤造成申報問題，則為個人責任學會無法負責。 \n【取消活動相關規定】\n※活動前三天至前五天內通知辦理取消，收10%手續費。 \n※活動前二天內通知辦理取消，收30%手續費。 \n※活動前一天及當天通知辦理取消，恕無法退費。 \n\n\n【行程規劃】\n\n\n\n時間\n活動\n地點\n\n\n07:30 – 08:00\n學員報到集合\n台北市承德路二段189號(es café前)\n\n\n08:00 – 09:00\n出發至白沙灣\n白沙灣遊客中心\n\n\n09:00 – 09:30\n探索館簡介及影片觀賞\n北海岸遊憩探索館\n\n\n09:30 – 11:30\n麟山鼻步道導覽\n麟山鼻步道\n\n\n11:30 – 13:00\n午餐時間\n白沙灣遊客中心\n\n\n13:00 – 14:00\n簡報時間\n白沙灣遊客中心\n\n\n14:00 – 16:00\n淨灘\n不能說的秘密木棧道旁沙灘  麟山鼻漁港旁沙灘\n\n\n16:00 – 17:00\n賦歸\n台北市承德路二段189號(es café前)\n\n\n\n*本會保留行程變動之權利，以實際活動行程為 \n  \n\n早鳥優惠報名 即日起至7/31(三) \n  \n線上報名 \n  \n\n
URL:https://www.pmi.org.tw/event/09%e6%9c%8807%e6%97%a5%e5%85%ad-%e3%80%90%e5%8f%b0%e5%8c%97%e5%a0%b4%e3%80%91field-trippm%e6%84%9b%e6%b7%a8%e7%81%98%ef%bc%8c%e6%8f%aa%e4%bd%a0%e9%80%97%e9%99%a3%e8%a1%8c/
LOCATION:不能說的秘密木棧道旁沙灘 麟山鼻漁港旁沙灘\, 石門區德茂里\, 新北市\, 台灣
END:VEVENT
END:VCALENDAR