BEGIN:VCALENDAR
VERSION:2.0
PRODID:-//國際專案管理學會台灣分會 - ECPv4.9.7//NONSGML v1.0//EN
CALSCALE:GREGORIAN
METHOD:PUBLISH
X-WR-CALNAME:國際專案管理學會台灣分會
X-ORIGINAL-URL:https://www.pmi.org.tw
X-WR-CALDESC:Events for 國際專案管理學會台灣分會
BEGIN:VTIMEZONE
TZID:"Asia/Taipei"
BEGIN:STANDARD
TZOFFSETFROM:+0800
TZOFFSETTO:+0800
TZNAME:CST
DTSTART:20190101T000000
END:STANDARD
END:VTIMEZONE
BEGIN:VEVENT
DTSTART;TZID="Asia/Taipei":20190619T190000
DTEND;TZID="Asia/Taipei":20190619T210000
DTSTAMP:20260423T100748
CREATED:20190218T220153Z
LAST-MODIFIED:20190830T011954Z
UID:3052-1560970800-1560978000@www.pmi.org.tw
SUMMARY:06月19日(三)【20回娘家系列講座】商業簡報技巧
DESCRIPTION:\n您是否曾在眾人面前做過簡報？ \n如果您懂得如何進行簡報工作，善用精心設計的視覺輔助教材，靈活地加以運用，可能在數十分鐘內，為公司瞬間增加數百萬美元的業績。 \n簡報絕對不是業務員、企劃人員的專利，每一種職位的人員都有機會做簡報。本講座特別邀請前大同公司行政管理副處長來分享商業簡報的技巧，讓您能完美的完成每一場簡報。 \n【講座大綱】\n1.簡報目標/為什麼要做這場簡報 \n2.上台前，這樣準備會更好 \n3.簡報內容製做 \n【講師】黃憲隆\n大同公司行政管理副處長 \n大同大學助理教授 \n線上報名 \n
URL:https://www.pmi.org.tw/event/06%e6%9c%8819%e6%97%a5%e4%b8%89%e3%80%9020%e5%9b%9e%e5%a8%98%e5%ae%b6%e7%b3%bb%e5%88%97%e8%ac%9b%e5%ba%a7%e3%80%91%e5%95%86%e6%a5%ad%e7%b0%a1%e5%a0%b1%e6%8a%80%e5%b7%a7/
LOCATION:PMI台灣分會\, 台北市大同區雙連街53巷8號1樓
END:VEVENT
END:VCALENDAR