BEGIN:VCALENDAR
VERSION:2.0
PRODID:-//國際專案管理學會台灣分會 - ECPv4.9.7//NONSGML v1.0//EN
CALSCALE:GREGORIAN
METHOD:PUBLISH
X-WR-CALNAME:國際專案管理學會台灣分會
X-ORIGINAL-URL:https://www.pmi.org.tw
X-WR-CALDESC:Events for 國際專案管理學會台灣分會
BEGIN:VTIMEZONE
TZID:"Asia/Taipei"
BEGIN:STANDARD
TZOFFSETFROM:+0800
TZOFFSETTO:+0800
TZNAME:CST
DTSTART:20190101T000000
END:STANDARD
END:VTIMEZONE
BEGIN:VEVENT
DTSTART;TZID="Asia/Taipei":20190515T190000
DTEND;TZID="Asia/Taipei":20190515T210000
DTSTAMP:20260423T160624
CREATED:20190219T083818Z
LAST-MODIFIED:20190830T012118Z
UID:1575-1557946800-1557954000@www.pmi.org.tw
SUMMARY:05月15日(三)【20回娘家系列講座】在專案中，有哪些情況要靠談判來解決問題?
DESCRIPTION: \n談判是兩人或多於兩人進行對話，雙方企圖達成正向的結果。此正向結果可有利於所有談判參與者，或僅對個別或一些談判參與者有利。 \n在專案中無論對外(客戶等)或對內(跨部門等)溝通時，有哪些情況需要靠談判來解決、有哪些策略、該如何與惹不起的客戶談判而談判高手又有哪些人格特質? 本講座邀請談判經驗豐富的威京集團高添水資訊長來細說分明~ \n  \n【講座大綱】\n‧ 談判的本質及分類是什麼？ \n‧ 談判的目的是什麼？ \n‧ 談判有哪些策略可用？ \n‧ 在談判中，誰適合扮演什麼角色？ \n‧ 如何與惹不起的客戶談判？ \n‧ 談判高手有哪些人格特質？ \n  \n【講師】高添水\n♣ PMP®\, CGEIT®\, 政大企研所 \n♣ Bank of America Sr. Computer Specialist \n♣ INFOTECH & INFOCOMM VP\, CSO \n♣ SYSTEX Corp. PMO Founder\, CIO\, Acting CTO \n♣ Guoshi Partners Co.\, Ltd. Co-Founder\, CTO \n♣ Sim2Travel\, Inc. CSO\, CTO\, EVP \n♣ 威京集團資訊長 \n  \n
URL:https://www.pmi.org.tw/event/05%e6%9c%8815%e6%97%a5%e4%b8%89%e3%80%9020%e5%9b%9e%e5%a8%98%e5%ae%b6%e7%b3%bb%e5%88%97%e8%ac%9b%e5%ba%a7%e3%80%91%e5%9c%a8%e5%b0%88%e6%a1%88%e4%b8%ad%ef%bc%8c%e6%9c%89%e5%93%aa%e4%ba%9b%e6%83%85/
LOCATION:PMI台灣分會\, 台北市大同區雙連街53巷8號1樓\, 台灣
ORGANIZER;CN="PMI-TW":MAILTO:Service@pmi.org.tw
END:VEVENT
END:VCALENDAR