BEGIN:VCALENDAR
VERSION:2.0
PRODID:-//國際專案管理學會台灣分會 - ECPv4.9.7//NONSGML v1.0//EN
CALSCALE:GREGORIAN
METHOD:PUBLISH
X-WR-CALNAME:國際專案管理學會台灣分會
X-ORIGINAL-URL:https://www.pmi.org.tw
X-WR-CALDESC:Events for 國際專案管理學會台灣分會
BEGIN:VTIMEZONE
TZID:"Asia/Taipei"
BEGIN:STANDARD
TZOFFSETFROM:+0800
TZOFFSETTO:+0800
TZNAME:CST
DTSTART:20200101T000000
END:STANDARD
END:VTIMEZONE
BEGIN:VEVENT
DTSTART;TZID="Asia/Taipei":20200514T140000
DTEND;TZID="Asia/Taipei":20200514T160000
DTSTAMP:20260423T175612
CREATED:20200506T034614Z
LAST-MODIFIED:20200506T040312Z
UID:6728-1589464800-1589472000@www.pmi.org.tw
SUMMARY:05月14日(四) 【台中支會】區塊鏈實際案例應用
DESCRIPTION:【講座大綱】\n透過介紹實際世界的案例來引導大家思考如何結合到既有的事業和服務上，有哪些可運用方案及導入前的條件與資源 \n  \n【講師】朱宜振  執行長\n\n現職：\nBiiLabs共同創辦人與執行長 \n介紹：\nSSX南星創速器及物聯網區塊鏈新創BiiLabs共同創辦人與執行長，第一代網路人，所創辦的夢之大地BBS曾為台灣前十大BBS站多年(至今依然運作中)，\n人生從網際網路到電子業的工業電腦，及特殊電信鐵道應用產業到物聯網，長期深入探討Deep Tech的應用及價值。\n2017年與夥伴投入成立BiiLabs利用分散式帳本應用解決萬物聯網的挑戰，提供符合新一代隱私保護的解決方案。 \n  \n線上報名 \n
URL:https://www.pmi.org.tw/event/05%e6%9c%8814%e6%97%a5%e5%9b%9b-%e3%80%90%e5%8f%b0%e4%b8%ad%e6%94%af%e6%9c%83%e3%80%91%e5%8d%80%e5%a1%8a%e9%8f%88%e5%af%a6%e9%9a%9b%e6%a1%88%e4%be%8b%e6%87%89%e7%94%a8/
LOCATION:台中市西屯區朝富路213號21樓A6 (CBD時代廣場)\, 朝富路213號21樓A6 (CBD時代廣場)\, 台中市\, 407\, 台灣
END:VEVENT
END:VCALENDAR