BEGIN:VCALENDAR
VERSION:2.0
PRODID:-//國際專案管理學會台灣分會 - ECPv4.9.7//NONSGML v1.0//EN
CALSCALE:GREGORIAN
METHOD:PUBLISH
X-WR-CALNAME:國際專案管理學會台灣分會
X-ORIGINAL-URL:https://www.pmi.org.tw
X-WR-CALDESC:Events for 國際專案管理學會台灣分會
BEGIN:VTIMEZONE
TZID:"Asia/Taipei"
BEGIN:STANDARD
TZOFFSETFROM:+0800
TZOFFSETTO:+0800
TZNAME:CST
DTSTART:20200101T000000
END:STANDARD
END:VTIMEZONE
BEGIN:VEVENT
DTSTART;TZID="Asia/Taipei":20200520T190000
DTEND;TZID="Asia/Taipei":20200520T210000
DTSTAMP:20260423T192938
CREATED:20200416T041219Z
LAST-MODIFIED:20200612T103214Z
UID:6658-1590001200-1590008400@www.pmi.org.tw
SUMMARY:05月20日(三)【高雄支會】心智圖法工作應用 (線上方式進行)
DESCRIPTION:【講座摘要】\n在PMP考試中，心智圖法是蒐集需求的工具，但實際專案工作場域中，心智圖法如何幫助我們提升工作效能呢? \n「心智圖法讓我終止開會被K的命運」，蕙融副理分享學習心智圖法後，在工作上她能在短時間釐清專案的脈絡，建構出思維的高度、寬度與深度，讓自己工作更有效率。 \n本場講座孫老師以引導法，讓參與學員釐清心智圖與心智圖法差異，經由專案活動與解析，讓學員以放射性思考，觀察出專案的階層結構與特徵屬性，並以心智圖法產出成果。講座同時會示範心智圖軟體於工作應用，讓大腦與電腦收穫滿滿。 \n【講座大綱】\n\n心智圖與心智圖法解析\nA++客戶參訪專案-心智圖法工作應用\n心智圖法軟體簡介\n\n【講師簡歷】孫中平\n \n \n一、教育部部定講師\n二、勞動部大專院校就業學程計畫/青年旗艦計畫/青年就業領航計畫審核委員\n三、勞動部中小企業人力資源提升計畫輔導顧問\n四、勞動部i-Cap訓練經理五級認證講師\n五、孫易新心智圖法基礎/工作應用認證講師\n六、成大研究發展基金會兼任講師\n七、國立台灣體育運動大學、遠東科技大學講師 \n【備註說明】\n因應新型冠狀病毒疫情活動方式變更為Zoom線上方式進行，敬請先下載Zoom軟體 \n  \n線上報名 \n  \n
URL:https://www.pmi.org.tw/event/05%e6%9c%8813%e6%97%a5%e5%9b%9b%e3%80%90%e9%ab%98%e9%9b%84%e6%94%af%e6%9c%83%e3%80%91%e5%bf%83%e6%99%ba%e5%9c%96%e6%b3%95%e5%b7%a5%e4%bd%9c%e6%87%89%e7%94%a8/
LOCATION:PMI-TW高雄支會\, 高雄市苓雅區中正一路306號10樓之1\, 高雄市
END:VEVENT
END:VCALENDAR