BEGIN:VCALENDAR
VERSION:2.0
PRODID:-//國際專案管理學會台灣分會 - ECPv4.9.7//NONSGML v1.0//EN
CALSCALE:GREGORIAN
METHOD:PUBLISH
X-WR-CALNAME:國際專案管理學會台灣分會
X-ORIGINAL-URL:https://www.pmi.org.tw
X-WR-CALDESC:Events for 國際專案管理學會台灣分會
BEGIN:VTIMEZONE
TZID:"Asia/Taipei"
BEGIN:STANDARD
TZOFFSETFROM:+0800
TZOFFSETTO:+0800
TZNAME:CST
DTSTART:20200101T000000
END:STANDARD
END:VTIMEZONE
BEGIN:VEVENT
DTSTART;TZID="Asia/Taipei":20200513T190000
DTEND;TZID="Asia/Taipei":20200513T210000
DTSTAMP:20260423T160925
CREATED:20200213T033925Z
LAST-MODIFIED:20200506T070528Z
UID:6168-1589396400-1589403600@www.pmi.org.tw
SUMMARY:05月13日(三)【台北支會】AI敲門磚-Python視覺化分析與機器學習(線上方式進行)
DESCRIPTION:人工智慧(Artificial Intelligence\, AI)是一門結合大數據(Big Data)、演算法(Algorithm)與算力(Computing)的劃時代技術，說起來複雜，實際上只要具有基本數學能力、程式語言基礎與統計觀念就可以踏入AI領域。 \n目前AI發展中最受歡迎的程式語言是Python，相較於其他程式語言，Python簡單易懂，更有大量的科學家、工程師與社群為Python提供開源(Open)的資料庫(Library)免費讓大家使用，使AI得以快速發展，這是其他程式語言比不上的。 \n本次講座將以淺顯易懂的方式，幫各位快速入門Python觀念與基礎語法，再帶入AI視覺化分析與機器學習的範例，幫各位踏進AI這道門檻。 \n【講座大綱】\n\nPython基本觀念\nPython基礎語法\n視覺化分析\n機器學習\nQ&A\n\n【講師】林家瑋\n \n國立臺北商業大學 商學研究所(MBA) \n國立高雄第一科技大學 電腦網路與通訊工程系 \n證照： \n國際專案管理師(PMP®) \nCertified Scrum Master(CSM) \nScrum Master Accredited Certification™ \n國際企業管理師 \n數位轉型AI化策略規劃師 \nMicrosoft AI人工智慧種子師資 \nMicrosoft Professional in Artificial Intelligence \n現職： \n葳騰科技股份有限公司(BQool) – Saas產品經理 \n國際專案管理學會台灣分會(PMI-TW) – 6th副主委、專案講師、志工 \n國立臺北商業大學創新育成中心 – 創業顧問暨業界講師 \n臺灣客服中心發展協會、各地區扶輪社 – 專案講師 \nChatbot UX Lab x YOCTOL.AI – Workshop共同主辦人暨講師 \n經歷： \nトランスコスモス台湾(transcosmos Taiwan) – Chatbot產品經理、IT部門主管 \n華康字型(DynaComward Taiwan) – 大中華區零售產品部門主管 \n擔任過資深軟體與SI工程師、業務部門主管、資深產品經理等職務 \nPMI-TW： \n2017 The Praise of Annual Excellent Volunteers. \n授課經歷： \nPMI-TW、國立臺北商業大學、大同大學、臺灣客服中心發展協會TCCDA、各地區扶輪社 \n【備註說明】\n因應新型冠狀病毒疫情活動方式變更為Zoom線上方式進行，敬請先下載Zoom軟體 \n  \n線上報名 \n
URL:https://www.pmi.org.tw/event/05%e6%9c%8813%e6%97%a5%e4%b8%89%e3%80%90%e5%8f%b0%e5%8c%97%e6%94%af%e6%9c%83%e3%80%91ai%e6%95%b2%e9%96%80%e7%a3%9a-python%e8%a6%96%e8%a6%ba%e5%8c%96%e5%88%86%e6%9e%90%e8%88%87%e6%a9%9f%e5%99%a8/
LOCATION:PMI台灣分會\, 台北市大同區雙連街53巷8號1樓\, 台灣
END:VEVENT
END:VCALENDAR