BEGIN:VCALENDAR
VERSION:2.0
PRODID:-//國際專案管理學會台灣分會 - ECPv4.9.7//NONSGML v1.0//EN
CALSCALE:GREGORIAN
METHOD:PUBLISH
X-WR-CALNAME:國際專案管理學會台灣分會
X-ORIGINAL-URL:https://www.pmi.org.tw
X-WR-CALDESC:Events for 國際專案管理學會台灣分會
BEGIN:VTIMEZONE
TZID:"Asia/Taipei"
BEGIN:STANDARD
TZOFFSETFROM:+0800
TZOFFSETTO:+0800
TZNAME:CST
DTSTART:20200101T000000
END:STANDARD
END:VTIMEZONE
BEGIN:VEVENT
DTSTART;TZID="Asia/Taipei":20200423T140000
DTEND;TZID="Asia/Taipei":20200423T160000
DTSTAMP:20260423T144111
CREATED:20200409T083430Z
LAST-MODIFIED:20200415T085623Z
UID:6631-1587650400-1587657600@www.pmi.org.tw
SUMMARY:04月23日(四)【台中支會】人工智慧 x 產業創新
DESCRIPTION:【講座大綱】\n\n人工智慧在影音資料自動化的應用\n人工智慧在金融科技的應用\n人工智慧在旅宿產業的應用\n\n【講師】黃俊傑\n \n現職： \nGDP Inc. 經濟體有限公司共同創辦人暨執行長 \n介紹： \n執行長黃俊傑過去創辦的Visocvery，是台灣知名的AI影像辨識公司，深知品牌、研發、電商運營等輕資產新經濟企業的痛點，加上市場、金融機構及政府對無形資產的鑑價並不成熟，缺乏一套完整、可信的評估機制，新經濟企業無法獲得增長所需的資金。2019年底開始投入新創公司GDP（Global Digital Payments）通過大數據、AI模型、區塊鏈等技術，將那些『看不見的資產』轉變為可模擬的風險指標，並進一步完成鑑價，提供中小微型企業不一樣的放貸條件。 \n  \n線上報名 \n  \n
URL:https://www.pmi.org.tw/event/04%e6%9c%8823%e6%97%a5%e5%9b%9b%e3%80%90%e5%8f%b0%e4%b8%ad%e6%94%af%e6%9c%83%e3%80%91%e4%ba%ba%e5%b7%a5%e6%99%ba%e6%85%a7-x-%e7%94%a2%e6%a5%ad%e5%89%b5%e6%96%b0/
LOCATION:台中市西屯區朝富路213號21樓A6 (CBD時代廣場)\, 朝富路213號21樓A6 (CBD時代廣場)\, 台中市\, 407\, 台灣
END:VEVENT
END:VCALENDAR