BEGIN:VCALENDAR
VERSION:2.0
PRODID:-//國際專案管理學會台灣分會 - ECPv4.9.7//NONSGML v1.0//EN
CALSCALE:GREGORIAN
METHOD:PUBLISH
X-WR-CALNAME:國際專案管理學會台灣分會
X-ORIGINAL-URL:https://www.pmi.org.tw
X-WR-CALDESC:Events for 國際專案管理學會台灣分會
BEGIN:VTIMEZONE
TZID:"Asia/Taipei"
BEGIN:STANDARD
TZOFFSETFROM:+0800
TZOFFSETTO:+0800
TZNAME:CST
DTSTART:20190101T000000
END:STANDARD
END:VTIMEZONE
BEGIN:VEVENT
DTSTART;TZID="Asia/Taipei":20190417T190000
DTEND;TZID="Asia/Taipei":20190417T210000
DTSTAMP:20260423T173819
CREATED:20190219T055855Z
LAST-MODIFIED:20190830T012133Z
UID:1587-1555527600-1555534800@www.pmi.org.tw
SUMMARY:04月17日(三)【20回娘家系列講座】AI面白授-不會寫程式也能打造一隻免費Chatbot
DESCRIPTION:新技術的產生，往往會帶來商業典範的移轉，專案經理人勢必要具有敏銳的嗅覺與學習力，以因應新科技所帶來的不確定性。 \n望眼未來，專案經理們的新課題勢必會面臨到AI的衝擊，但AI的範圍這麼大，好像又很艱深難懂，我們該如何去入門、了解、甚至將AI導入到公司以提高整體效益呢？ \n今天，就讓我們以有趣的方式，來學習AI的其中一個應用：Chatbot(聊天機器人)，過程中將一步一步帶領各位從快速建立粉絲團、透過知名工具建置Chatbot等過程，讓不會寫程式的我們也能做出屬於自己的專業Chatbot。 \n註1：因教學過程中會使用到電腦，如希望邊學邊做的同學請自行攜帶筆電 \n註2：面白授(おもしろそう)定義：非常有趣的意思 \n  \n【講座大綱】\n1.Chatbot簡介\n2.Chatbot粉絲團建立 \n3.輕鬆愉快的建置一隻Chatbot \n4.將Chatbot連結至粉絲團 \n5.Q&A \n  \n【講師】林家瑋(Ray Lin)\n個人簡歷：\n學歷： \n國立臺北商業大學 商學研究所(MBA) \n國立高雄第一科技大學 電腦網路與通訊工程系 \n證照： \n國際專案管理師(PMP®) \n國際企業管理師(IMQ®) \n現職： \nトランスコスモス台湾(transcosmos Taiwan). Contact Center Div. Product Manager. \nトランスコスモス台湾(transcosmos Taiwan). IT Solutions Dept. Manager. \n經歷： \nDynaComware Taiwan Inc. Retail Product Dept. Product Manager. \nDnnaComware Taiwan Inc. IA Font Dept. Technical Supporting Engineer. \nDnnaComware Taiwan Inc. Gaiji Product & Project Dept. Technical Supporting Engineer. \nSunward Computer System Co.\, Ltd. System Integration Engineer. \nVeshin International Enterprise Co.\, Ltd. Sales Dept. Sales Manager. \nAssistive Technology Engineering Lab. Senior Software Engineer. \nPMI-TW： \nPMI-TW 6th Alternate Director. \nPMI-TW 6th Vice Chairman of Award Committee. \nPMI-TW 6th Vice Chairman of Event Committee. \nPMI-TW Speaker、Host、Volunteer. \n2017 The Praise of Annual Excellent Volunteers. \n  \n
URL:https://www.pmi.org.tw/event/04%e6%9c%8817%e6%97%a5%e4%b8%89%e3%80%9020%e5%9b%9e%e5%a8%98%e5%ae%b6%e7%b3%bb%e5%88%97%e8%ac%9b%e5%ba%a7%e3%80%91ai%e9%9d%a2%e7%99%bd%e6%8e%88-%e4%b8%8d%e6%9c%83%e5%af%ab%e7%a8%8b%e5%bc%8f%e4%b9%9f/
ORGANIZER;CN="PMI-TW":MAILTO:Service@pmi.org.tw
END:VEVENT
END:VCALENDAR