BEGIN:VCALENDAR
VERSION:2.0
PRODID:-//國際專案管理學會台灣分會 - ECPv4.9.7//NONSGML v1.0//EN
CALSCALE:GREGORIAN
METHOD:PUBLISH
X-WR-CALNAME:國際專案管理學會台灣分會
X-ORIGINAL-URL:https://www.pmi.org.tw
X-WR-CALDESC:Events for 國際專案管理學會台灣分會
BEGIN:VTIMEZONE
TZID:"Asia/Taipei"
BEGIN:STANDARD
TZOFFSETFROM:+0800
TZOFFSETTO:+0800
TZNAME:CST
DTSTART:20190101T000000
END:STANDARD
END:VTIMEZONE
BEGIN:VEVENT
DTSTART;TZID="Asia/Taipei":20190327T190000
DTEND;TZID="Asia/Taipei":20190327T210000
DTSTAMP:20260423T191226
CREATED:20190219T061137Z
LAST-MODIFIED:20190523T081444Z
UID:1603-1553713200-1553720400@www.pmi.org.tw
SUMMARY:03月27日(三)【20回娘家系列講座】綠能建築專案評估與實施
DESCRIPTION:近年來，由於氣候變遷加劇，全球暖化成為普世關切議題，各國莫不積極發展綠色經濟，期望朝向低碳、高資源使用效率的綠色未來邁進。全球綠能科技產業迅速成長，彭博財經指出，預估從現在到 2050 年，再生能源總投資金額將達 11.5 兆美元。 \n而綠能建築專案如何評估、規劃與實施? 本講座邀請綠盟建築科技股份有限公司營運長來為您解惑~ \n  \n【講座大綱】\n1. 發展綠能為世界趨勢 \n2. 個人如何營造綠能永續生活 \n3. 太陽能發電與建築整合 ( BIPV ) \n4. 如何評估綠能建築專案 \n5. 綠能建築專案規劃與實施 \n6. Q & A \n  \n【講師】黃怡領\n現任職於綠盟建築科技股份有限公司營運長。 \n具有PMP認證；早期任職於國際知名建材大廠 HILTI 七年，從事推廣與工務管理工作；後轉入軟體產業有十餘年經驗，同時對軟體專案管理及營建管理均有深入研究。曾任職於偉盟系統與孟華科技，對於營建產業 ERP 與 PMIS 及財務會計系統之整合有多年實務導入經驗，目前研究主題除建築節能與太陽能 BIPV 領域外，尚有建築資訊建模系統 BIM 在營建產業之能源模擬及應用。具專案管理、營建管理、軟體系統規劃分析及市場行銷開發專業與專案管理教學經驗。除曾擔任 PMI-TW 資深顧問外，也是台灣綠領協會理事。 \n學歷： \n成功大學 工學士 土木工程 \n台灣科技大學 營建工程研究所 \n  \n結束報名 \n
URL:https://www.pmi.org.tw/event/03%e6%9c%8827%e6%97%a5%e4%b8%89%e3%80%9020%e5%9b%9e%e5%a8%98%e5%ae%b6%e7%b3%bb%e5%88%97%e8%ac%9b%e5%ba%a7%e3%80%91%e7%b6%a0%e8%83%bd%e5%bb%ba%e7%af%89%e5%b0%88%e6%a1%88%e8%a9%95%e4%bc%b0%e8%88%87/
LOCATION:PMI台灣分會\, 台北市大同區雙連街53巷8號1樓\, 台灣
ORGANIZER;CN="PMI-TW":MAILTO:Service@pmi.org.tw
END:VEVENT
END:VCALENDAR