BEGIN:VCALENDAR
VERSION:2.0
PRODID:-//國際專案管理學會台灣分會 - ECPv4.9.7//NONSGML v1.0//EN
CALSCALE:GREGORIAN
METHOD:PUBLISH
X-WR-CALNAME:國際專案管理學會台灣分會
X-ORIGINAL-URL:https://www.pmi.org.tw
X-WR-CALDESC:Events for 國際專案管理學會台灣分會
BEGIN:VTIMEZONE
TZID:"Asia/Taipei"
BEGIN:STANDARD
TZOFFSETFROM:+0800
TZOFFSETTO:+0800
TZNAME:CST
DTSTART:20200101T000000
END:STANDARD
END:VTIMEZONE
BEGIN:VEVENT
DTSTART;TZID="Asia/Taipei":20200326T190000
DTEND;TZID="Asia/Taipei":20200326T210000
DTSTAMP:20260423T095620
CREATED:20200306T063711Z
LAST-MODIFIED:20200316T074634Z
UID:6331-1585249200-1585256400@www.pmi.org.tw
SUMMARY:03月26日(四)【高雄支會】如何讓自己收入倍增之專案管理（以四季逗果汁個案為例說明）
DESCRIPTION:【講座摘要】\n本場講座將以四季逗果汁個案為例說明如何應用在工作上，課前請先看隨附檔案(餐飲創業模式)內容案例說明，本課程以敏捷式管理之方法帶大家練習及做出產出物。 \n【講座大綱】\n課程進行方式(敏捷式管理)： \n\n畫出願景盒\n寫出所有之USER STORY\n排序\n站立會議、DEMO、檢討流程\n\n【講師簡歷】洪家祥(PMP、PMI-ACP)\n學歷： \n\n淡江土木系\n國立第一科大科技管理研究所博士候選人\n現職：如魚得水 管理顧問公司 總經理\n\n經歷： \n\n沙烏地迪拉工程工務經理(提前半年完工)\n長谷50層樓世貿聯合國專案總監(連續壁節省1200萬)\n長谷集團勵成營造總經理(86年台南10大優良建築)\n上海泛太平洋建設總經理(上海解決提車塔問題)\nBOVIS顧問公司採購部經理\n長宏專案管理顧問有限公司協理\n\n \n  \n※報名者請先下載檔案以便上課時討論用 \n  \n線上報名 \n
URL:https://www.pmi.org.tw/event/03%e6%9c%8826%e6%97%a5%e3%80%90%e9%ab%98%e9%9b%84%e6%94%af%e6%9c%83%e3%80%91%e5%a6%82%e4%bd%95%e8%ae%93%e8%87%aa%e5%b7%b1%e6%94%b6%e5%85%a5%e5%80%8d%e5%a2%9e%e4%b9%8b%e5%b0%88%e6%a1%88%e7%ae%a1/
LOCATION:高雄市鳳山區青年路二段12號2樓(近高雄捷運橘線鳳山西站，開車可停家樂福鳳山店)\, 青年路二段12號2樓\, 高雄市\, 830\, 台灣
END:VEVENT
END:VCALENDAR