BEGIN:VCALENDAR
VERSION:2.0
PRODID:-//國際專案管理學會台灣分會 - ECPv4.9.7//NONSGML v1.0//EN
CALSCALE:GREGORIAN
METHOD:PUBLISH
X-WR-CALNAME:國際專案管理學會台灣分會
X-ORIGINAL-URL:https://www.pmi.org.tw
X-WR-CALDESC:Events for 國際專案管理學會台灣分會
BEGIN:VTIMEZONE
TZID:"Asia/Taipei"
BEGIN:STANDARD
TZOFFSETFROM:+0800
TZOFFSETTO:+0800
TZNAME:CST
DTSTART:20200101T000000
END:STANDARD
END:VTIMEZONE
BEGIN:VEVENT
DTSTART;TZID="Asia/Taipei":20200318T190000
DTEND;TZID="Asia/Taipei":20200318T210000
DTSTAMP:20260421T064534
CREATED:20200113T080926Z
LAST-MODIFIED:20200113T081038Z
UID:5973-1584558000-1584565200@www.pmi.org.tw
SUMMARY:03月18日(三)【台北支會】運用心智圖法與數位筆記，提升職場效能
DESCRIPTION:「心智圖」是幫助工作者在思考事情時能夠化繁為簡，掌握問題的本質，同時還能層次分明地整理出思考的順序，容易溝通和執行。\n「數位筆記」是一種行動規劃的工具，本講座講師將分享如何運用心智圖法與數位筆記工具來提升您的職場效能。 \n  \n【講座大綱】\n1.快速將思緒視覺化與儲放雲端的密技\n2.思緒圖像化之最：心智圖法\n3.心智圖法於職場工作應用案例分享\n4.存放智慧結晶的數位筆記本的介紹\n5.數位筆記職場案例：記錄您的工作流 \n  \n【講師】蔡興正\n \n現職：\n愛你一輩子守護團 學習心中主任\n仲悅企管管理顧問公司 講師\nCPFS職人旅圖講師 \n專業證照： \n\nGoogle for Education 全球華人講師\n孫易新心智圖法Ⓡ講師班﹙成人班、國小/國高中班﹚\n[第084號] GCDF全球職涯發展師\n中華人力資源協會 訓練發展管理師\nWBSA初階企劃人員\n中國生產力研發經理訓結業\n\n專長講演領域： \n\n心智圖法課程\n\n\n心智圖法基礎應用\n\n心智圖法的核心觀念、企畫規劃與文章筆記\n\n\n心智圖法學習應用\n\n學習技巧與閱讀分析資訊技巧\n\n\n心智圖法工作應用\n\n專案管理之實務應用\n檔案管理實務技巧\n\n\n\n\n數位軟體應用\n\n\nGoogle APP應用\n\nGoogleApp之行動辦公室\n\n\nEvernote數位筆記本\n\n資訊管理與數位筆記本\nEvernote超效知識管理術\n\n\n\n\n職涯發展\n\n\n個人職涯發展\n職場面試與履歷撰寫\n時間管理\n年度計劃\n\n經歷： \n一、產業經歷：\n復盛運動器材事業部 總經理特助\n復盛運動器材事業部 設計部副理 \n二、線上課程：\n數位職人必備-Evernote超效知識管理術\nGoogle工具輕鬆上手！專案管理不用怕 \n三、授課經歷：\n資誠會計師事務所、日月光、青志金屬、長春化工、全家便利商店、中正專利、百及物流、仲悅企問管理顧問公司、台北市家長協會、世達柏、微邦科技、典華幸福企業、亞洲體驗教育協會、台北希望園區、新竹希望園區、巨力科技、新譽職涯管理顧問公司、東吳大學、康寧護校、稻江科技管理學院、郵政工會、台北市社會局專案講座、技鼎科技、榮創電子、台中社會局、就業輔助站職涯諮詢特約職涯發展師、天母國小、百齡國小、武陵高中 \n  \n線上報名 \n
URL:https://www.pmi.org.tw/event/03%e6%9c%8818%e6%97%a5%e4%b8%89%e3%80%90%e5%8f%b0%e5%8c%97%e6%94%af%e6%9c%83%e3%80%91%e9%81%8b%e7%94%a8%e5%bf%83%e6%99%ba%e5%9c%96%e6%b3%95%e8%88%87%e6%95%b8%e4%bd%8d%e7%ad%86%e8%a8%98%ef%bc%8c/
LOCATION:PMI台灣分會\, 台北市大同區雙連街53巷8號1樓\, 台灣
END:VEVENT
END:VCALENDAR