BEGIN:VCALENDAR
VERSION:2.0
PRODID:-//國際專案管理學會台灣分會 - ECPv4.9.7//NONSGML v1.0//EN
CALSCALE:GREGORIAN
METHOD:PUBLISH
X-WR-CALNAME:國際專案管理學會台灣分會
X-ORIGINAL-URL:https://www.pmi.org.tw
X-WR-CALDESC:Events for 國際專案管理學會台灣分會
BEGIN:VTIMEZONE
TZID:"Asia/Taipei"
BEGIN:STANDARD
TZOFFSETFROM:+0800
TZOFFSETTO:+0800
TZNAME:CST
DTSTART:20200101T000000
END:STANDARD
END:VTIMEZONE
BEGIN:VEVENT
DTSTART;TZID="Asia/Taipei":20200610T190000
DTEND;TZID="Asia/Taipei":20200610T210000
DTSTAMP:20260423T205920
CREATED:20200311T074902Z
LAST-MODIFIED:20200505T092948Z
UID:6349-1591815600-1591822800@www.pmi.org.tw
SUMMARY:06月10日(三)【台北支會】人生事業成功勝利組- 從 PMBOK 說起、CMMI、孫子兵法
DESCRIPTION:本講座邀請華夏培元張建華經典領袖來分享從PMBOK、CMMI如何結合孫子兵法來達成人生事業成功勝利組。 \n【講座大綱】\n1. PMBOK\n2. CMMI (Capability Maturity Model Integration)\n3. 兵法 基模\n4. LMMI (Leadership Maturity Model Integration)\n5. 總合整合 – 成功勝利組\n6. Q&A \n【講師】張建華\n \n學歷： \n–新竹交通大學: 航運技術/輪機工程 \n\n工程學士B.S.\, Marine Technology航運技術系\n– 蔡麟筆教授(管理科學系 -中國管理哲學)\n•交大高階經營管理人才培訓班 – 經營管理研究所 (EDP0016 )\n\n–猶他大學 (University of Utah) \n\n計算機工程學士B.S.\, Computer Science (輔系: Mathematics)\n• 教育行政碩士 M. ED. Educational Administration\n\n–中華企業研究院 DBA in Practice(博士生) \n經歷： \n\n現任：\n\n– 華夏培元 (負責人) 經典領袖/總裁培訓(三合一)\n– 中華企業研究院 (副研究員)，中華文化孫子兵法研究學會(研究員/臺北分會長)，哈孫俱樂部(創辦人) \n\n曾任：\n\n-可取科技/淩群電腦(CMMI顧問\,台灣康維吉斯股份有限公司)\n-曾旅美十五年，從事IT相關工作 (資訊科技、通訊、軟體、服務、顧問、培訓…)\n-產業: 通訊\, 半導體\, 系統整合、客服(軟體)…等 \n  \n★專長(講演/授課)：美商公司15年(USA)及從事顧問、講師工作十餘年。主題含蓋 CMMI等組織成熟度標準化作業輔導顧問、中華經典智慧的現代企業應用 及新時代中華道統的身心靈合一。 \n例：企業家班：金管會(ITIL)\, 巨路國際(兵法)\,新竹市工商發展投資策進會(兵法)\, 宏碁、華苓、淩網(CMMI)\, 扶輪社(府門社、北市中區…等十餘社)\, 奉元書院、中華企業研究院、台灣PMP、孫子兵法商戰總裁班(企業經營管理顧問學會)、普濟門(經典傳承)、易經大學/唯心聖教學院(鬼谷子)、洪建全基金會/彩姿讀書會、中華道家文化推廣教育學會…等。 \n高中/大學：復旦高中、醒吾高中、新北高中、岡山高中…等；元智大學、東海大學、東吳大學、台大地質所、政大外交學院(兵法)\, 政大資管所；山東濱州學院、普禾書吧、瀋陽匯才學院、上海復旦校友俱樂部、…等。 \n★ 論文：(山東)孫子研究季刊、孫子兵法國際網路論壇、(山東)蒙山鬼谷子論壇、…(香港)東方財經，(臺灣) 策略評論、身心靈自我療癒國際研討會、唯心宗/臺灣鬼谷子學術研究會、… \n  \n【備註說明】\n本會將視新型冠狀病毒疫情保留活動方式變更(Zoom線上方式進行)的權利 \n  \n線上報名 \n
URL:https://www.pmi.org.tw/event/03%e6%9c%8818%e6%97%a5%e4%b8%89%e3%80%90%e5%8f%b0%e5%8c%97%e6%94%af%e6%9c%83%e3%80%91%e4%ba%ba%e7%94%9f%e4%ba%8b%e6%a5%ad%e6%88%90%e5%8a%9f%e5%8b%9d%e5%88%a9%e7%b5%84-%e5%be%9e-pmbok-%e8%aa%aa/
LOCATION:PMI台灣分會\, 台北市大同區雙連街53巷8號1樓\, 台灣
END:VEVENT
END:VCALENDAR