BEGIN:VCALENDAR
VERSION:2.0
PRODID:-//國際專案管理學會台灣分會 - ECPv4.9.7//NONSGML v1.0//EN
CALSCALE:GREGORIAN
METHOD:PUBLISH
X-WR-CALNAME:國際專案管理學會台灣分會
X-ORIGINAL-URL:https://www.pmi.org.tw
X-WR-CALDESC:Events for 國際專案管理學會台灣分會
BEGIN:VTIMEZONE
TZID:"Asia/Taipei"
BEGIN:STANDARD
TZOFFSETFROM:+0800
TZOFFSETTO:+0800
TZNAME:CST
DTSTART:20200101T000000
END:STANDARD
END:VTIMEZONE
BEGIN:VEVENT
DTSTART;TZID="Asia/Taipei":20200220T140000
DTEND;TZID="Asia/Taipei":20200220T160000
DTSTAMP:20260421T150638
CREATED:20200211T104911Z
LAST-MODIFIED:20200226T035523Z
UID:6147-1582207200-1582214400@www.pmi.org.tw
SUMMARY:02月20日(四) 【台中支會】 智慧城鄉
DESCRIPTION:【講座摘要】\n《興創知能》以【Smart X Green】為行動方針，將AI、IoT、GIS、ICT等智慧化之數據與資訊技術充份活用，響應聯合國於2015年提出之「永續發展目標」（Sustainable Development Goals，簡稱SDGs) ，創造低碳與永續之未來社會。 \n【講座大綱】\n以「AIoT智慧防災物聯網應用」介紹智慧空間資訊服務事業，用於智慧防災、智慧能源、智慧交通、智慧水管理和智慧營建與農業等5大領域，最佳客製化解決方案。 \n【講師簡介】鄭錦桐\n \n現職~ \n\n興創知能公司總經理\n台灣防災產業學會秘書長\nOpen Date聯盟副會長\n災害防救召集人\n\n鄭錦桐先生在接下興創知能公司總經理職位前，擔任中興社科技防災研究中心副主任，也是台灣防災產業協會秘書長，觸角自防災、土木到透過人工智慧（AI）跨域到物流業、運輸業等，深耕智慧防災、智慧能源、智慧營建、智慧交通、智慧水管理等領域，並持續依各產業對空間資訊的需求逐步活化調整。 \n  \n  \n線上報名 \n
URL:https://www.pmi.org.tw/event/02%e6%9c%8820%e6%97%a5%e5%9b%9b-%e3%80%90%e5%8f%b0%e4%b8%ad%e6%94%af%e6%9c%83%e3%80%91-%e6%99%ba%e6%85%a7%e5%9f%8e%e9%84%89/
LOCATION:台中市西屯區朝富路213號21樓A6 (CBD時代廣場)\, 朝富路213號21樓A6 (CBD時代廣場)\, 台中市\, 407\, 台灣
END:VEVENT
END:VCALENDAR