BEGIN:VCALENDAR
VERSION:2.0
PRODID:-//國際專案管理學會台灣分會 - ECPv4.9.7//NONSGML v1.0//EN
CALSCALE:GREGORIAN
METHOD:PUBLISH
X-WR-CALNAME:國際專案管理學會台灣分會
X-ORIGINAL-URL:https://www.pmi.org.tw
X-WR-CALDESC:Events for 國際專案管理學會台灣分會
BEGIN:VTIMEZONE
TZID:"Asia/Taipei"
BEGIN:STANDARD
TZOFFSETFROM:+0800
TZOFFSETTO:+0800
TZNAME:CST
DTSTART:20200101T000000
END:STANDARD
END:VTIMEZONE
BEGIN:VEVENT
DTSTART;TZID="Asia/Taipei":20200205T190000
DTEND;TZID="Asia/Taipei":20200205T210000
DTSTAMP:20260421T165601
CREATED:20200117T100435Z
LAST-MODIFIED:20200117T100855Z
UID:6004-1580929200-1580936400@www.pmi.org.tw
SUMMARY:02月05日(三)【高雄支會】以台糖個案說明，BIM在建築設計及營建管理之應用
DESCRIPTION:【講座大綱】\n\nBIM在建築設計及營建管理之應用現況\n用專案來說明BIM應用及預期成效\n\n【講師簡歷】洪家祥(PMP、PMI-ACP)\n學歷： \n\n淡江土木系\n國立第一科大科技管理研究所博士候選人\n現職：如魚得水 管理顧問公司 總經理\n\n經歷： \n\n沙烏地迪拉工程工務經理(提前半年完工)\n長谷50層樓世貿聯合國專案總監(連續壁節省1200萬)\n長谷集團勵成營造總經理(86年台南10大優良建築)\n上海泛太平洋建設總經理(上海解決提車塔問題)\nBOVIS顧問公司採購部經理\n長宏專案管理顧問有限公司協理\n\n \n  \n線上報名 \n
URL:https://www.pmi.org.tw/event/02%e6%9c%8805%e6%97%a5%e4%b8%89%e3%80%90%e9%ab%98%e9%9b%84%e6%94%af%e6%9c%83%e3%80%91%e4%bb%a5%e5%8f%b0%e7%b3%96%e5%80%8b%e6%a1%88%e8%aa%aa%e6%98%8e%ef%bc%8cbim%e5%9c%a8%e5%bb%ba%e7%af%89%e8%a8%ad/
LOCATION:高雄市鳳山區青年路二段12號2樓(近高雄捷運橘線鳳山西站，開車可停家樂福鳳山店)\, 青年路二段12號2樓\, 高雄市\, 830\, 台灣
END:VEVENT
END:VCALENDAR