BEGIN:VCALENDAR
VERSION:2.0
PRODID:-//國際專案管理學會台灣分會 - ECPv4.9.7//NONSGML v1.0//EN
CALSCALE:GREGORIAN
METHOD:PUBLISH
X-WR-CALNAME:國際專案管理學會台灣分會
X-ORIGINAL-URL:https://www.pmi.org.tw
X-WR-CALDESC:Events for 國際專案管理學會台灣分會
BEGIN:VTIMEZONE
TZID:"Asia/Taipei"
BEGIN:STANDARD
TZOFFSETFROM:+0800
TZOFFSETTO:+0800
TZNAME:CST
DTSTART:20200101T000000
END:STANDARD
END:VTIMEZONE
BEGIN:VEVENT
DTSTART;TZID="Asia/Taipei":20200115T190000
DTEND;TZID="Asia/Taipei":20200115T210000
DTSTAMP:20260421T201610
CREATED:20191223T034001Z
LAST-MODIFIED:20191227T085506Z
UID:5785-1579114800-1579122000@www.pmi.org.tw
SUMMARY:01月15日(三)【台北支會】快速面試：意外的王牌-敏捷精神在人才招募的應用
DESCRIPTION:勞動市場的資訊不對稱，在現今網路人力銀行充沛的時代，依然存在相當大的問題，而當這個市場放大到國際時，尋才以及求職的成本將會更擴大。\nMeet. jobs的出現就是定位面向全球，致力為國際專業人才所打造的跨境社交求職平台，社群及親友推薦的搭配，讓每個人都能夠成為獵頭，挖掘出儘管低調，卻是不同專業領域中的佼佼者，創造勞動市場效率最大化。\n本講座邀請Meet.Jobs 創辦人及 CAO來分享其創業理念及如何將敏捷運用於面試中。 \n  \n【講座大綱】\n1. 簡單介紹 Meet.Jobs\n2. 快速面試緣起－企業和求職者的快速約會\n3. 第一次舉辦快速面試－新加坡三家 IT 新創\n4. 意外成功後擴大舉辦－快速面試 in 2017\n5. 其實應該叫做敏捷面試－大幅提高媒合效率\n6. 敏捷不只是快速－快速面試的進化與突變 \n  \n【講師】林昶聿\n– Meet.Jobs 創辦人及 CAO\n– 8 年 PM + 2 年工程師經驗\n– 德國 ESMT 商學院 MBA/ 國立交通大學電子工程學系學士\n– 28 個國家 工作/ 求學/ 生活/ 旅行經驗\n– 無國界浪人/ 資源開放信徒/ 社會企業中毒者/ 業餘孤獨美食家 \n \n  \n線上報名 \n
URL:https://www.pmi.org.tw/event/01%e6%9c%8815%e6%97%a5%e4%b8%89%e3%80%90%e5%8f%b0%e5%8c%97%e6%94%af%e6%9c%83%e3%80%91%e5%bf%ab%e9%80%9f%e9%9d%a2%e8%a9%a6%ef%bc%9a%e6%84%8f%e5%a4%96%e7%9a%84%e7%8e%8b%e7%89%8c-%e6%95%8f%e6%8d%b7/
LOCATION:PMI台灣分會\, 台北市大同區雙連街53巷8號1樓\, 台灣
END:VEVENT
END:VCALENDAR